BEGIN:VCALENDAR
VERSION:2.0
PRODID:-//Drupal iCal API//EN
X-WR-CALNAME:Events items teaser
X-WR-TIMEZONE:America/Toronto
BEGIN:VTIMEZONE
TZID:America/Toronto
X-LIC-LOCATION:America/Toronto
BEGIN:DAYLIGHT
TZNAME:EDT
TZOFFSETFROM:-0500
TZOFFSETTO:-0400
DTSTART:20230312T070000
END:DAYLIGHT
BEGIN:STANDARD
TZNAME:EST
TZOFFSETFROM:-0400
TZOFFSETTO:-0500
DTSTART:20221106T060000
END:STANDARD
END:VTIMEZONE
BEGIN:VEVENT
UID:69e56f24cf78d
DTSTART;TZID=America/Toronto:20230719T100000
SEQUENCE:0
TRANSP:TRANSPARENT
DTEND;TZID=America/Toronto:20230719T110000
URL:https://uwaterloo.ca/institute-for-quantum-computing/events/quantum-enh
 anced-communication-and-sensing-quantum-network
LOCATION:QNC - Quantum Nano Centre 200 University Avenue West 1201 Waterloo
  ON N2L 3G1 Canada
SUMMARY:Quantum-enhanced communication and sensing in quantum network: theo
 ry\nand experiment.
CLASS:PUBLIC
DESCRIPTION:IQC SEMINAR - YUJIE ZHANG\, UNIVERSITY OF ILLINOIS AT URBANA-CH
 AMPAIGN\n\nA global quantum network stands at the frontier of the ongoing\
 ntechnological revolution and has led to both theoretical discussion on\nd
 esigning new network quantum protocols\, and experimental works in\ntheir 
 implementation.  In this talk\, we will explore applications of\nthe quan
 tum network with novel theoretical proposals and their\ntable-top experime
 ntal demonstrations including quantum enhanced\nmultiple-access communicat
 ions and astronomical sensing with quantum\ntelescopy.
DTSTAMP:20260420T001116Z
END:VEVENT
END:VCALENDAR