BEGIN:VCALENDAR
VERSION:2.0
PRODID:-//Drupal iCal API//EN
X-WR-CALNAME:Events items teaser
X-WR-TIMEZONE:America/Toronto
BEGIN:VTIMEZONE
TZID:America/Toronto
X-LIC-LOCATION:America/Toronto
BEGIN:DAYLIGHT
TZNAME:EDT
TZOFFSETFROM:-0500
TZOFFSETTO:-0400
DTSTART:20230312T070000
END:DAYLIGHT
BEGIN:STANDARD
TZNAME:EST
TZOFFSETFROM:-0400
TZOFFSETTO:-0500
DTSTART:20221106T060000
END:STANDARD
END:VTIMEZONE
BEGIN:VEVENT
UID:69e56f365ae59
DTSTART;TZID=America/Toronto:20230727T153000
SEQUENCE:0
TRANSP:TRANSPARENT
DTEND;TZID=America/Toronto:20230727T163000
URL:https://uwaterloo.ca/institute-for-quantum-computing/events/some-convex
 -subsets-set-quantum-channels
LOCATION:QNC - Quantum Nano Centre 200 University Avenue West QNC 1201 Wate
 rloo ON N2L 3G1 Canada
SUMMARY:Some convex subsets of the set of quantum channels
CLASS:PUBLIC
DESCRIPTION:CS/MATH SEMINAR - RAJESH PEREIRA\, THE UNIVERSITY OF GUELPH \n\
 nWe explore two convex subsets of the sets of quantum channels. The set\no
 f mixed unitary channels and the set of entanglement breaking\nchannels. W
 e study the geometry of these sets\, and show how certain\ngeometric and s
 pectral properties of these sets can be studied using\npositive definite f
 unctions\, stochastic matrices and other\nmathematical tools.
DTSTAMP:20260420T001134Z
END:VEVENT
END:VCALENDAR