BEGIN:VCALENDAR
VERSION:2.0
PRODID:-//Drupal iCal API//EN
X-WR-CALNAME:Events items teaser
X-WR-TIMEZONE:America/Toronto
BEGIN:VTIMEZONE
TZID:America/Toronto
X-LIC-LOCATION:America/Toronto
BEGIN:DAYLIGHT
TZNAME:EDT
TZOFFSETFROM:-0500
TZOFFSETTO:-0400
DTSTART:20230312T070000
END:DAYLIGHT
BEGIN:STANDARD
TZNAME:EST
TZOFFSETFROM:-0400
TZOFFSETTO:-0500
DTSTART:20221106T060000
END:STANDARD
END:VTIMEZONE
BEGIN:VEVENT
UID:69e6964456fe4
DTSTART;TZID=America/Toronto:20230915T150000
SEQUENCE:0
TRANSP:TRANSPARENT
DTEND;TZID=America/Toronto:20230915T160000
URL:https://uwaterloo.ca/institute-for-quantum-computing/events/one-shot-st
 ate-preparations-using-local-operations-and
LOCATION:QNC - Quantum Nano Centre 200 University Avenue West 1201 Waterloo
  ON N2L 3G1 Canada
SUMMARY:One-Shot State Preparations using Local Operations and Limited\nCor
 related Resources
CLASS:PUBLIC
DESCRIPTION:IQC SEMINAR - IAN GEORGE\, UIUC\n\nAs quantum networks approach
  real life implementation\, a theoretical\nunderstanding of their limitati
 ons becomes practically important. In\nthis talk\, I will discuss recent w
 orks with my collaborators where we\ncharacterize the ability to prepare a
  target quantum state over simple\nnetworks using local operations (LO) an
 d limited correlated resources\nin the one-shot setting.
DTSTAMP:20260420T211028Z
END:VEVENT
END:VCALENDAR