BEGIN:VCALENDAR
VERSION:2.0
PRODID:-//Drupal iCal API//EN
X-WR-CALNAME:Events items teaser
X-WR-TIMEZONE:America/Toronto
BEGIN:VTIMEZONE
TZID:America/Toronto
X-LIC-LOCATION:America/Toronto
BEGIN:DAYLIGHT
TZNAME:EDT
TZOFFSETFROM:-0500
TZOFFSETTO:-0400
DTSTART:20230312T070000
END:DAYLIGHT
BEGIN:STANDARD
TZNAME:EST
TZOFFSETFROM:-0400
TZOFFSETTO:-0500
DTSTART:20221106T060000
END:STANDARD
END:VTIMEZONE
BEGIN:VEVENT
UID:69e67c170e9ef
DTSTART;TZID=America/Toronto:20231002T140000
SEQUENCE:0
TRANSP:TRANSPARENT
DTEND;TZID=America/Toronto:20231002T150000
URL:https://uwaterloo.ca/institute-for-quantum-computing/events/beyond-pipe
 line-fostering-equity-our-quantum-future
LOCATION:QNC - Quantum Nano Centre 0101 200 University Avenue West Waterloo
  ON N2L 3G1 Canada
SUMMARY:Beyond the Pipeline: Fostering Equity in Our Quantum Future
CLASS:PUBLIC
DESCRIPTION:KIM DE LAAT\, UNIVERSITY OF WATERLOO\n\nQuantum Nano Centre (QN
 C) Room 0101\, 200 University Avenue West\,\nWaterloo\, ON\n\nThe field of
  quantum computing has a unique opportunity to pre-empt\nmany of the inequ
 ities that have riddled AI and computer science. But\nradical technologies
  require new\, radical solutions. In this talk\, I\ntake issue with the le
 aky pipeline metaphor as a way of structuring\npolicy interventions concer
 ning inequality in STEM fields. I outline\nthree reasons why overreliance 
 on the leaky pipeline metaphor is\nproblematic: (1) it does not accurately
  represent the phenomenon it is\nmeant to describe\; (2) it is incomplete\
 ; and (3) it does not capture\nthe full heterogeneity of experiences with 
 inequality in STEM\ndisciplines. I conclude the talk by sharing feedback f
 rom the quantum\ntechnology community concerning potential pitfalls in the
  pursuit of\nequity in quantum\, and what we can do about it.
DTSTAMP:20260420T191847Z
END:VEVENT
END:VCALENDAR