BEGIN:VCALENDAR
VERSION:2.0
PRODID:-//Drupal iCal API//EN
X-WR-CALNAME:Events items teaser
X-WR-TIMEZONE:America/Toronto
BEGIN:VTIMEZONE
TZID:America/Toronto
X-LIC-LOCATION:America/Toronto
BEGIN:DAYLIGHT
TZNAME:EDT
TZOFFSETFROM:-0500
TZOFFSETTO:-0400
DTSTART:20230312T070000
END:DAYLIGHT
BEGIN:STANDARD
TZNAME:EST
TZOFFSETFROM:-0400
TZOFFSETTO:-0500
DTSTART:20221106T060000
END:STANDARD
END:VTIMEZONE
BEGIN:VEVENT
UID:69e56f32cd04b
DTSTART;TZID=America/Toronto:20231025T120000
SEQUENCE:0
TRANSP:TRANSPARENT
DTEND;TZID=America/Toronto:20231025T130000
URL:https://uwaterloo.ca/institute-for-quantum-computing/events/iqc-student
 -seminar-featuring-shreyas-natarajan
LOCATION:QNC - Quantum Nano Centre 200 University Avenue West QNC 1201 Wate
 rloo ON N2L 3G1 Canada
SUMMARY:IQC Student Seminar Featuring Shreyas Natarajan
CLASS:PUBLIC
DESCRIPTION:COMPUTATIONAL ENTANGLEMENT THEORY\n\nQuantum Nano Centre\, 200 
 University Ave W\, Room QNC 1201\nWaterloo\, ON\, CA N2L 3G1\n\nQuantum en
 tanglement is an important resource that contributes to the\npotential of 
 quantum computers over classical computers. It turns out\nto be an interes
 ting idea to quantify entanglement in states\, and\nthere are different ap
 proaches to this. We can\, for example\, consider\nthe number of Bell stat
 es that are required to approximately produce a\ngiven state or the number
  of Bell states that can be produced from the\nstate - these correspond to
  the 'entanglement cost’ and\n‘distillable entanglement' respectively.
  Throughout this\, we bear in\nmind a picture where Alice (A) and Bob (B) 
 own a shared state\, and are\nonly able to perform LOCC operations on thei
 r respective systems. In\npractice\, however\, computational complexity mu
 st be taken into\naccount. I will explain some recent developments towards
  taking\ncomputational complexity into account for these operational measu
 res\,\nas well as introducing pseudo-entanglement\, and hopefully some qua
 ntum\ncryptography.\n\nADD EVENT TO CALENDAR\n\nApple [https://www.addeven
 t.com/event/Vp19058178+apple]  Google\n[https://www.addevent.com/event/V
 p19058178+google]  Office 365\n[https://www.addevent.com/event/Vp1905817
 8+office365]  Outlook\n[https://www.addevent.com/event/Vp19058178+outloo
 k]  Outlook.com\n[https://www.addevent.com/event/Vp19058178+outlookcom]
   Yahoo\n[https://www.addevent.com/event/Vp19058178+yahoo]  
DTSTAMP:20260420T001130Z
END:VEVENT
END:VCALENDAR