BEGIN:VCALENDAR
VERSION:2.0
PRODID:-//Drupal iCal API//EN
X-WR-CALNAME:Events items teaser
X-WR-TIMEZONE:America/Toronto
BEGIN:VTIMEZONE
TZID:America/Toronto
X-LIC-LOCATION:America/Toronto
BEGIN:DAYLIGHT
TZNAME:EDT
TZOFFSETFROM:-0500
TZOFFSETTO:-0400
DTSTART:20230312T070000
END:DAYLIGHT
BEGIN:STANDARD
TZNAME:EST
TZOFFSETFROM:-0400
TZOFFSETTO:-0500
DTSTART:20231105T060000
END:STANDARD
END:VTIMEZONE
BEGIN:VEVENT
UID:69e58f69eb4aa
DTSTART;TZID=America/Toronto:20240202T090000
SEQUENCE:0
TRANSP:TRANSPARENT
DTEND;TZID=America/Toronto:20240202T100000
URL:https://uwaterloo.ca/institute-for-quantum-computing/events/andrew-jena
 -phd-thesis-defense
SUMMARY:Andrew Jena PhD Thesis Defense
CLASS:PUBLIC
DESCRIPTION:GRAPH-THEORETIC TECHNIQUES FOR OPTIMIZING NISQ ALGORITHMS\n\nSu
 pervisor: Dr. Michele Mosca. Thesis available\nfrom mgo@uwaterloo.ca. Ora
 l defence Friday\, February 2\, 9:00 a.m.\,\nonline.
DTSTAMP:20260420T022857Z
END:VEVENT
END:VCALENDAR