BEGIN:VCALENDAR
VERSION:2.0
PRODID:-//Drupal iCal API//EN
X-WR-CALNAME:Events items teaser
X-WR-TIMEZONE:America/Toronto
BEGIN:VTIMEZONE
TZID:America/Toronto
X-LIC-LOCATION:America/Toronto
BEGIN:DAYLIGHT
TZNAME:EDT
TZOFFSETFROM:-0500
TZOFFSETTO:-0400
DTSTART:20230312T070000
END:DAYLIGHT
BEGIN:STANDARD
TZNAME:EST
TZOFFSETFROM:-0400
TZOFFSETTO:-0500
DTSTART:20231105T060000
END:STANDARD
END:VTIMEZONE
BEGIN:VEVENT
UID:69e4f9af104d0
DTSTART;TZID=America/Toronto:20240131T120000
SEQUENCE:0
TRANSP:TRANSPARENT
DTEND;TZID=America/Toronto:20240131T130000
URL:https://uwaterloo.ca/institute-for-quantum-computing/events/iqc-student
 -seminar-featuring-amolak-ratan-kalra-0
LOCATION:RAC - Research Advancement Centre 475 Wes Graham Way Room RAC 2009
  Waterloo ON N2L 6R2 Canada
SUMMARY:IQC Student Seminar Featuring Amolak Ratan Kalra
CLASS:PUBLIC
DESCRIPTION:ARITHMETIC AND SYNTHESIS OF QUANTUM CIRCUITS\n\nResearch Advanc
 ement Centre\, 475 Wes Graham Way\, Room RAC 2009\,\nWaterloo\, ON\, CA N2
 L 6R2\n\nIn this talk I will introduce some basic aspects of quantum circu
 it\nsynthesis over various gate sets for qubits and qutrits. The main\nref
 erence for this work is: https://arxiv.org/pdf/2311.08696.pdf \n  \nI w
 ill also talk about the relationship between synthesis\, SIC-POVMs\nand ma
 gic states. This is work done with Dinesh Valluri\, Michele\nMosca\, Jon Y
 ard\, Sam Winnick and Manimugdha Saikia.
DTSTAMP:20260419T155007Z
END:VEVENT
END:VCALENDAR