BEGIN:VCALENDAR
VERSION:2.0
PRODID:-//Drupal iCal API//EN
X-WR-CALNAME:Events items teaser
X-WR-TIMEZONE:America/Toronto
BEGIN:VTIMEZONE
TZID:America/Toronto
X-LIC-LOCATION:America/Toronto
BEGIN:DAYLIGHT
TZNAME:EDT
TZOFFSETFROM:-0500
TZOFFSETTO:-0400
DTSTART:20230312T070000
END:DAYLIGHT
BEGIN:STANDARD
TZNAME:EST
TZOFFSETFROM:-0400
TZOFFSETTO:-0500
DTSTART:20231105T060000
END:STANDARD
END:VTIMEZONE
BEGIN:VEVENT
UID:69e4df0732520
DTSTART;TZID=America/Toronto:20240221T120000
SEQUENCE:0
TRANSP:TRANSPARENT
DTEND;TZID=America/Toronto:20240221T130000
URL:https://uwaterloo.ca/institute-for-quantum-computing/events/iqc-student
 -seminar-featuring-kieran-mastel-0
LOCATION:QNC - Quantum Nano Centre Room 1201 200 University Avenue West Wat
 erloo ON N2L 3G1 Canada
SUMMARY:IQC Student Seminar Featuring Kieran Mastel
CLASS:PUBLIC
DESCRIPTION:THE CLIFFORD THEORY OF THE N-QUBIT CLIFFORD GROUP\n\nQuantum-Na
 no Centre\, 200 University Ave West\, Room QNC 1201 Waterloo\,\nON CA N2L 
 3G1\n\nThe n-qubit Pauli group and its normalizer the n-qubit Clifford gro
 up\nhave applications in quantum error correction and device\ncharacteriza
 tion. Recent applications have made use of the\nrepresentation theory of t
 he Clifford group. We apply the tools of\n(the coincidentally named) Cliff
 ord theory to examine the\nrepresentation theory of the Clifford group usi
 ng the much simpler\nrepresentation theory of the Pauli group. We find an 
 unexpected\ncorrespondence between irreducible characters of the n-qubit C
 lifford\ngroup and those of the (n + 1)-qubit Clifford group. This talk wi
 ll\nrely on the explanation of Clifford theory given last week.
DTSTAMP:20260419T135623Z
END:VEVENT
END:VCALENDAR