BEGIN:VCALENDAR
VERSION:2.0
PRODID:-//Drupal iCal API//EN
X-WR-CALNAME:Events items teaser
X-WR-TIMEZONE:America/Toronto
BEGIN:VTIMEZONE
TZID:America/Toronto
X-LIC-LOCATION:America/Toronto
BEGIN:DAYLIGHT
TZNAME:EDT
TZOFFSETFROM:-0500
TZOFFSETTO:-0400
DTSTART:20240310T070000
END:DAYLIGHT
BEGIN:STANDARD
TZNAME:EST
TZOFFSETFROM:-0400
TZOFFSETTO:-0500
DTSTART:20231105T060000
END:STANDARD
END:VTIMEZONE
BEGIN:VEVENT
UID:69e67c167d7bd
DTSTART;TZID=America/Toronto:20240412T150000
SEQUENCE:0
TRANSP:TRANSPARENT
DTEND;TZID=America/Toronto:20240412T160000
URL:https://uwaterloo.ca/institute-for-quantum-computing/events/how-quantum
 -compute-non-abelian-gauge-theories-theoretical
LOCATION:QNC - Quantum Nano Centre 200 University Avenue West 1201 Waterloo
  ON N2L 3G1 Canada
SUMMARY:How to quantum compute non-Abelian gauge theories: theoretical and\
 nalgorithmic considerations
CLASS:PUBLIC
DESCRIPTION:IQC SEMINAR - ZOHREH DAVOUDI\, UNIVERSITY OF MARYLAND\n\nQuantu
 m-Nano Centre\, 200 University Ave West\, Room QNC 1201 Waterloo\,\nON CA 
 N2L 3G1\n\nQuantum computing gauge theories of relevance to Nature require
 s a\nrange of theoretical and algorithmic developments to make simulations
 \namenable in the near and far terms. With a focus on the SU(2) lattice\ng
 auge theory with matter\, I will motivate the need for efficient\ntheoreti
 cal formulations\, introduce general quantum algorithms that\ncan simulate
  them efficiently\, and discuss strategies for analyzing\nthe required qua
 ntum resources accurately. These considerations will\nbe of relevance to s
 imulating other gauge theories of increasing\ncomplexity\, including quant
 um chromodynamics.
DTSTAMP:20260420T191846Z
END:VEVENT
END:VCALENDAR