BEGIN:VCALENDAR
VERSION:2.0
PRODID:-//Drupal iCal API//EN
X-WR-CALNAME:Events items teaser
X-WR-TIMEZONE:America/Toronto
BEGIN:VTIMEZONE
TZID:America/Toronto
X-LIC-LOCATION:America/Toronto
BEGIN:DAYLIGHT
TZNAME:EDT
TZOFFSETFROM:-0500
TZOFFSETTO:-0400
DTSTART:20240310T070000
END:DAYLIGHT
BEGIN:STANDARD
TZNAME:EST
TZOFFSETFROM:-0400
TZOFFSETTO:-0500
DTSTART:20231105T060000
END:STANDARD
END:VTIMEZONE
BEGIN:VEVENT
UID:69ec2e7dc6365
DTSTART;TZID=America/Toronto:20240409T100000
SEQUENCE:0
TRANSP:TRANSPARENT
DTEND;TZID=America/Toronto:20240409T110000
URL:https://uwaterloo.ca/institute-for-quantum-computing/events/embezzlemen
 t-entanglement-quantum-fields-and-classification
LOCATION:QNC - Quantum Nano Centre 200 University Avenue West 1201 Waterloo
  ON N2L 3G1 Canada
SUMMARY:Embezzlement of entanglement\, quantum fields and the classificatio
 n of\nvon Neumann algebras
CLASS:PUBLIC
DESCRIPTION:CS/MATH SEMINAR - LAURITZ VAN LUIJK\, LEIBNIZ UNIVERSITÄT HANN
 OVER\n\nQuantum-Nano Centre\, 200 University Ave West\, Room QNC 1201 + ZO
 OM\nWaterloo\, ON CA N2L 3G1\n\nEmbezzlement refers to the counterintuitiv
 e possibility of extracting\nentangled quantum states from a reference sta
 te of an auxiliary system\n(the \"embezzler\") via local quantum operation
 s while hardly perturbing\nthe reference. I will explain a deep connection
  between this\noperational task and the mathematical classification of vo
 n Neumann\nalgebras.\n\nThis result implies that relativistic quantum fiel
 ds are universal\nembezzlers: Any entangled state of any dimension can be 
 embezzled from\nthem with arbitrary precision. In particular\, this provid
 es an\noperational characterization of the infinite amount of entanglement
 \npresent in the vacuum state of relativistic quantum field theories and\n
 explains the classic result that the vacuum maximally violates Bell's\nine
 qualities: Alice and Bob can simply embezzle a maximally entangled\nqubit 
 pair and perform a Bell measurement.\n\nThe talk is based on joined work w
 ith A Stottmeister\, RF Werner\, and H\nWilming (see arXiv:2401.07292\n[h
 ttps://arxiv.org/abs/2401.07292]\, arXiv:2401.07299\n[https://arxiv.org/a
 bs/2401.07299]).
DTSTAMP:20260425T030117Z
END:VEVENT
END:VCALENDAR