BEGIN:VCALENDAR
VERSION:2.0
PRODID:-//Drupal iCal API//EN
X-WR-CALNAME:Events items teaser
X-WR-TIMEZONE:America/Toronto
BEGIN:VTIMEZONE
TZID:America/Toronto
X-LIC-LOCATION:America/Toronto
BEGIN:DAYLIGHT
TZNAME:EDT
TZOFFSETFROM:-0500
TZOFFSETTO:-0400
DTSTART:20240310T070000
END:DAYLIGHT
BEGIN:STANDARD
TZNAME:EST
TZOFFSETFROM:-0400
TZOFFSETTO:-0500
DTSTART:20231105T060000
END:STANDARD
END:VTIMEZONE
BEGIN:VEVENT
UID:69e58602d14f0
DTSTART;TZID=America/Toronto:20240704T103000
SEQUENCE:0
TRANSP:TRANSPARENT
DTEND;TZID=America/Toronto:20240704T113000
URL:https://uwaterloo.ca/institute-for-quantum-computing/events/bruno-souza
 -leao-torres-phd-thesis-defense
SUMMARY:Bruno De Souza Leao Torres PhD Thesis Defense
CLASS:PUBLIC
DESCRIPTION:ASPECTS OF QUANTUM INFORMATION IN QUANTUM FIELD THEORY: PARTICL
 E\nDETECTOR MODELS\, ENTANGLEMENT\, AND COMPLEXITY\n\nQuantum-Nano Centre\
 , 200 University Ave West\, Room QNC 2101\nWaterloo\, ON CA N2L 3G1\n\nSup
 ervisors: Dr. Eduardo Martin-Martinez\, Dr. Beni Yoshida
DTSTAMP:20260420T014850Z
END:VEVENT
END:VCALENDAR