BEGIN:VCALENDAR
VERSION:2.0
PRODID:-//Drupal iCal API//EN
X-WR-CALNAME:Events items teaser
X-WR-TIMEZONE:America/Toronto
BEGIN:VTIMEZONE
TZID:America/Toronto
X-LIC-LOCATION:America/Toronto
BEGIN:DAYLIGHT
TZNAME:EDT
TZOFFSETFROM:-0500
TZOFFSETTO:-0400
DTSTART:20240310T070000
END:DAYLIGHT
BEGIN:STANDARD
TZNAME:EST
TZOFFSETFROM:-0400
TZOFFSETTO:-0500
DTSTART:20231105T060000
END:STANDARD
END:VTIMEZONE
BEGIN:VEVENT
UID:69e56f3756d0e
DTSTART;TZID=America/Toronto:20240731T120000
SEQUENCE:0
TRANSP:TRANSPARENT
DTEND;TZID=America/Toronto:20240731T130000
URL:https://uwaterloo.ca/institute-for-quantum-computing/events/iqc-student
 -seminar-featuring-itammar-steinberg-weizmann
LOCATION:QNC - Quantum Nano Centre Romm 1201 200 University Avenue West Wat
 erloo ON N2L 3G1 Canada
SUMMARY:IQC Student Seminar Featuring Itammar Steinberg\, Weizmann Institut
 e of\nScience
CLASS:PUBLIC
DESCRIPTION:ENTANGLEMENT DISTILLATION AND DIQKD\n\nQNC building\, 200 Unive
 rsity Ave. Room 1201\, Waterloo \n\nQuantum entanglement can be quantifie
 d in many ways\, some of which\nbear clear operational meanings. The _Dis
 tillable\nEntanglement_ and _DIQKD rate_ are two such measures\, specul
 ated to\nbe equivalent as stated by the Revised Peres Conjecture (Friedman
  and\nLeditzky\, 21). Our research lays foundations to the conjecture’s\
 nproof\, most notably using the notion of ‘private states’\, a family\
 nof quantum states that arise naturally in the context of QKD.  Asking\nq
 uestions such as “what kind of private state can be resulted from a\ncer
 tain DIQKD protocol?”\, we were able to provide simple sufficient\ncondi
 tions for the Revised Peres Conjecture to hold.
DTSTAMP:20260420T001135Z
END:VEVENT
END:VCALENDAR