BEGIN:VCALENDAR
VERSION:2.0
PRODID:-//Drupal iCal API//EN
X-WR-CALNAME:Events items teaser
X-WR-TIMEZONE:America/Toronto
BEGIN:VTIMEZONE
TZID:America/Toronto
X-LIC-LOCATION:America/Toronto
BEGIN:DAYLIGHT
TZNAME:EDT
TZOFFSETFROM:-0500
TZOFFSETTO:-0400
DTSTART:20230312T070000
END:DAYLIGHT
BEGIN:STANDARD
TZNAME:EST
TZOFFSETFROM:-0400
TZOFFSETTO:-0500
DTSTART:20231105T060000
END:STANDARD
END:VTIMEZONE
BEGIN:VEVENT
UID:69e9b5e737293
DTSTART;VALUE=DATE:20231106
SEQUENCE:0
TRANSP:TRANSPARENT
DTEND;VALUE=DATE:20231111
URL:https://uwaterloo.ca/institute-for-quantum-computing/events/quantum-inn
 ovators-2023-0
SUMMARY:Quantum Innovators 2023
CLASS:PUBLIC
DESCRIPTION:The Institute for Quantum Computing (IQC) now offers two differ
 ent\nQuantum Innovators workshops to bring together the most promising\nyo
 ung postdoctoral fellows.
X-MICROSOFT-CDO-ALLDAYEVENT:TRUE
DTSTAMP:20260423T060215Z
END:VEVENT
END:VCALENDAR