BEGIN:VCALENDAR
VERSION:2.0
PRODID:-//Drupal iCal API//EN
X-WR-CALNAME:Events items teaser
X-WR-TIMEZONE:America/Toronto
BEGIN:VTIMEZONE
TZID:America/Toronto
X-LIC-LOCATION:America/Toronto
BEGIN:DAYLIGHT
TZNAME:EDT
TZOFFSETFROM:-0500
TZOFFSETTO:-0400
DTSTART:20240310T070000
END:DAYLIGHT
BEGIN:STANDARD
TZNAME:EST
TZOFFSETFROM:-0400
TZOFFSETTO:-0500
DTSTART:20241103T060000
END:STANDARD
END:VTIMEZONE
BEGIN:VEVENT
UID:69e51ac3eaf00
DTSTART;TZID=America/Toronto:20250224T143000
SEQUENCE:0
TRANSP:TRANSPARENT
DTEND;TZID=America/Toronto:20250224T153000
URL:https://uwaterloo.ca/institute-for-quantum-computing/events/iqc-colloqu
 ium-featuring-francesco-di-colandrea
SUMMARY:IQC Colloquium featuring Francesco Di Colandrea
CLASS:PUBLIC
DESCRIPTION:Large-scale quantum walks via complex polarization transformati
 ons\n\nLocation: QNC 0101
DTSTAMP:20260419T181115Z
END:VEVENT
BEGIN:VEVENT
UID:69e51ac3ebbbd
DTSTART;TZID=America/Toronto:20250224T143000
SEQUENCE:0
TRANSP:TRANSPARENT
DTEND;TZID=America/Toronto:20250224T153000
URL:https://uwaterloo.ca/institute-for-quantum-computing/events/iqc-colloqu
 ium-featuring-francesco-di-colandrea
SUMMARY:IQC Colloquium featuring Francesco Di Colandrea
CLASS:PUBLIC
DESCRIPTION:Large-scale quantum walks via complex polarization transformati
 ons\n\nLocation: QNC 0101
DTSTAMP:20260419T181115Z
END:VEVENT
END:VCALENDAR