BEGIN:VCALENDAR
VERSION:2.0
PRODID:-//Drupal iCal API//EN
X-WR-CALNAME:Events items teaser
X-WR-TIMEZONE:America/Toronto
BEGIN:VTIMEZONE
TZID:America/Toronto
X-LIC-LOCATION:America/Toronto
BEGIN:DAYLIGHT
TZNAME:EDT
TZOFFSETFROM:-0500
TZOFFSETTO:-0400
DTSTART:20250309T070000
END:DAYLIGHT
BEGIN:STANDARD
TZNAME:EST
TZOFFSETFROM:-0400
TZOFFSETTO:-0500
DTSTART:20241103T060000
END:STANDARD
END:VTIMEZONE
BEGIN:VEVENT
UID:69eb4adf664c3
DTSTART;TZID=America/Toronto:20250415T130000
SEQUENCE:0
TRANSP:TRANSPARENT
DTEND;TZID=America/Toronto:20250415T140000
URL:https://uwaterloo.ca/institute-for-quantum-computing/events/iqc-math-an
 d-cs-seminar-featuring-archishna-bhattacharya
SUMMARY:IQC Math and CS seminar featuring Archishna Bhattacharya
CLASS:PUBLIC
DESCRIPTION:Uncloneable Encryption from Decoupling\n\nLocation: QNC 1201\, 
 Zoom
DTSTAMP:20260424T105007Z
END:VEVENT
BEGIN:VEVENT
UID:69eb4adf66f6a
DTSTART;TZID=America/Toronto:20250415T130000
SEQUENCE:0
TRANSP:TRANSPARENT
DTEND;TZID=America/Toronto:20250415T140000
URL:https://uwaterloo.ca/institute-for-quantum-computing/events/iqc-math-an
 d-cs-seminar-featuring-archishna-bhattacharya
SUMMARY:IQC Math and CS seminar featuring Archishna Bhattacharya
CLASS:PUBLIC
DESCRIPTION:Uncloneable Encryption from Decoupling\n\nLocation: QNC 1201\, 
 Zoom
DTSTAMP:20260424T105007Z
END:VEVENT
END:VCALENDAR