BEGIN:VCALENDAR
VERSION:2.0
PRODID:-//Drupal iCal API//EN
X-WR-CALNAME:Events items teaser
X-WR-TIMEZONE:America/Toronto
BEGIN:VTIMEZONE
TZID:America/Toronto
X-LIC-LOCATION:America/Toronto
BEGIN:DAYLIGHT
TZNAME:EDT
TZOFFSETFROM:-0500
TZOFFSETTO:-0400
DTSTART:20250309T070000
END:DAYLIGHT
BEGIN:STANDARD
TZNAME:EST
TZOFFSETFROM:-0400
TZOFFSETTO:-0500
DTSTART:20241103T060000
END:STANDARD
END:VTIMEZONE
BEGIN:VEVENT
UID:69e9a74310e5b
DTSTART;VALUE=DATE:20251027
SEQUENCE:0
TRANSP:TRANSPARENT
DTEND;VALUE=DATE:20251028
URL:https://uwaterloo.ca/institute-for-quantum-computing/events/quantum-inn
 ovators-2025
SUMMARY:Quantum Innovators 2025
CLASS:PUBLIC
DESCRIPTION:Quantum Innovators is a five-day workshop offered by the Instit
 ute for\nQuantum Computing (IQC) since 2012 bringing the most promising\np
 ostdoctoral fellows in quantum information science and technology\ntogethe
 r.
X-MICROSOFT-CDO-ALLDAYEVENT:TRUE
DTSTAMP:20260423T045947Z
END:VEVENT
BEGIN:VEVENT
UID:69e9a74311763
DTSTART;VALUE=DATE:20251028
SEQUENCE:0
TRANSP:TRANSPARENT
DTEND;VALUE=DATE:20251029
URL:https://uwaterloo.ca/institute-for-quantum-computing/events/quantum-inn
 ovators-2025
SUMMARY:Quantum Innovators 2025
CLASS:PUBLIC
DESCRIPTION:Quantum Innovators is a five-day workshop offered by the Instit
 ute for\nQuantum Computing (IQC) since 2012 bringing the most promising\np
 ostdoctoral fellows in quantum information science and technology\ntogethe
 r.
X-MICROSOFT-CDO-ALLDAYEVENT:TRUE
DTSTAMP:20260423T045947Z
END:VEVENT
BEGIN:VEVENT
UID:69e9a74311ce2
DTSTART;VALUE=DATE:20251029
SEQUENCE:0
TRANSP:TRANSPARENT
DTEND;VALUE=DATE:20251030
URL:https://uwaterloo.ca/institute-for-quantum-computing/events/quantum-inn
 ovators-2025
SUMMARY:Quantum Innovators 2025
CLASS:PUBLIC
DESCRIPTION:Quantum Innovators is a five-day workshop offered by the Instit
 ute for\nQuantum Computing (IQC) since 2012 bringing the most promising\np
 ostdoctoral fellows in quantum information science and technology\ntogethe
 r.
X-MICROSOFT-CDO-ALLDAYEVENT:TRUE
DTSTAMP:20260423T045947Z
END:VEVENT
BEGIN:VEVENT
UID:69e9a7431224f
DTSTART;VALUE=DATE:20251030
SEQUENCE:0
TRANSP:TRANSPARENT
DTEND;VALUE=DATE:20251031
URL:https://uwaterloo.ca/institute-for-quantum-computing/events/quantum-inn
 ovators-2025
SUMMARY:Quantum Innovators 2025
CLASS:PUBLIC
DESCRIPTION:Quantum Innovators is a five-day workshop offered by the Instit
 ute for\nQuantum Computing (IQC) since 2012 bringing the most promising\np
 ostdoctoral fellows in quantum information science and technology\ntogethe
 r.
X-MICROSOFT-CDO-ALLDAYEVENT:TRUE
DTSTAMP:20260423T045947Z
END:VEVENT
BEGIN:VEVENT
UID:69e9a743127b1
DTSTART;VALUE=DATE:20251031
SEQUENCE:0
TRANSP:TRANSPARENT
DTEND;VALUE=DATE:20251101
URL:https://uwaterloo.ca/institute-for-quantum-computing/events/quantum-inn
 ovators-2025
SUMMARY:Quantum Innovators 2025
CLASS:PUBLIC
DESCRIPTION:Quantum Innovators is a five-day workshop offered by the Instit
 ute for\nQuantum Computing (IQC) since 2012 bringing the most promising\np
 ostdoctoral fellows in quantum information science and technology\ntogethe
 r.
X-MICROSOFT-CDO-ALLDAYEVENT:TRUE
DTSTAMP:20260423T045947Z
END:VEVENT
END:VCALENDAR