BEGIN:VCALENDAR
VERSION:2.0
PRODID:-//Drupal iCal API//EN
X-WR-CALNAME:Events items teaser
X-WR-TIMEZONE:America/Toronto
BEGIN:VTIMEZONE
TZID:America/Toronto
X-LIC-LOCATION:America/Toronto
BEGIN:DAYLIGHT
TZNAME:EDT
TZOFFSETFROM:-0500
TZOFFSETTO:-0400
DTSTART:20250309T070000
END:DAYLIGHT
BEGIN:STANDARD
TZNAME:EST
TZOFFSETFROM:-0400
TZOFFSETTO:-0500
DTSTART:20251102T060000
END:STANDARD
END:VTIMEZONE
BEGIN:VEVENT
UID:69e9a7419209b
DTSTART;TZID=America/Toronto:20260213T140000
SEQUENCE:0
TRANSP:TRANSPARENT
DTEND;TZID=America/Toronto:20260213T150000
URL:https://uwaterloo.ca/institute-for-quantum-computing/events/iqc-math-an
 d-cs-seminar-featuring-angelos-pelecanos
SUMMARY:IQC Math and CS seminar featuring Angelos Pelecanos
CLASS:PUBLIC
DESCRIPTION:Mixed state tomography reduces to pure state tomography\n\nLoca
 tion: QNC 3206 &amp; Zoom
DTSTAMP:20260423T045945Z
END:VEVENT
END:VCALENDAR