BEGIN:VCALENDAR
VERSION:2.0
PRODID:-//Drupal iCal API//EN
X-WR-CALNAME:Events items teaser
X-WR-TIMEZONE:America/Toronto
BEGIN:VTIMEZONE
TZID:America/Toronto
X-LIC-LOCATION:America/Toronto
BEGIN:DAYLIGHT
TZNAME:EDT
TZOFFSETFROM:-0500
TZOFFSETTO:-0400
DTSTART:20250309T070000
END:DAYLIGHT
BEGIN:STANDARD
TZNAME:EST
TZOFFSETFROM:-0400
TZOFFSETTO:-0500
DTSTART:20251102T060000
END:STANDARD
END:VTIMEZONE
BEGIN:VEVENT
UID:69e8ed88581e9
DTSTART;TZID=America/Toronto:20260306T140000
SEQUENCE:0
TRANSP:TRANSPARENT
DTEND;TZID=America/Toronto:20260306T150000
URL:https://uwaterloo.ca/institute-for-quantum-computing/events/iqc-math-an
 d-cs-seminar-featuring-aniruddha-sen
SUMMARY:IQC Math and CS seminar featuring Aniruddha Sen
CLASS:PUBLIC
DESCRIPTION:Pauli Measurements Are Near-Optimal for Pure State Tomography\n
 \nLocation: QNC 3206
DTSTAMP:20260422T154720Z
END:VEVENT
END:VCALENDAR