BEGIN:VCALENDAR
VERSION:2.0
PRODID:-//Drupal iCal API//EN
X-WR-CALNAME:Events items teaser
X-WR-TIMEZONE:America/Toronto
BEGIN:VTIMEZONE
TZID:America/Toronto
X-LIC-LOCATION:America/Toronto
BEGIN:DAYLIGHT
TZNAME:EDT
TZOFFSETFROM:-0500
TZOFFSETTO:-0400
DTSTART:20260308T070000
END:DAYLIGHT
BEGIN:STANDARD
TZNAME:EST
TZOFFSETFROM:-0400
TZOFFSETTO:-0500
DTSTART:20251102T060000
END:STANDARD
END:VTIMEZONE
BEGIN:VEVENT
UID:69e4f9b102157
DTSTART;TZID=America/Toronto:20260421T140000
SEQUENCE:0
TRANSP:TRANSPARENT
DTEND;TZID=America/Toronto:20260421T150000
URL:https://uwaterloo.ca/institute-for-quantum-computing/events/iqc-seminar
 -featuring-tyler-reynolds
LOCATION:QNC - Quantum Nano Centre 200 University Avenue West QNC 1201 Wate
 rloo ON N2L 3G1 Canada
SUMMARY:IQC Seminar featuring Tyler Reynolds
CLASS:PUBLIC
DESCRIPTION:Searching for Dark Matter with the SuperCDMS Experiment at SNOL
 AB\n\nLocation: QNC 1201
DTSTAMP:20260419T155009Z
END:VEVENT
END:VCALENDAR