BEGIN:VCALENDAR
VERSION:2.0
PRODID:-//Drupal iCal API//EN
X-WR-CALNAME:Events items teaser
X-WR-TIMEZONE:America/Toronto
BEGIN:VTIMEZONE
TZID:America/Toronto
X-LIC-LOCATION:America/Toronto
BEGIN:DAYLIGHT
TZNAME:EDT
TZOFFSETFROM:-0500
TZOFFSETTO:-0400
DTSTART:20100314T070000
END:DAYLIGHT
BEGIN:STANDARD
TZNAME:EST
TZOFFSETFROM:-0400
TZOFFSETTO:-0500
DTSTART:20101107T060000
END:STANDARD
END:VTIMEZONE
BEGIN:VEVENT
UID:69e4c6ea49f75
DTSTART;TZID=America/Toronto:20101122T123000
SEQUENCE:0
TRANSP:TRANSPARENT
DTEND;TZID=America/Toronto:20101122T133000
URL:https://uwaterloo.ca/institute-for-quantum-computing/events/robert-raus
 sendorf-2d-aklt-state-universal-measurement-based
LOCATION:RAC - Research Advancement Centre 475 Wes Graham Way 2009 Waterloo
  ON N2L 6R2 Canada
SUMMARY:Robert Raussendorf: The 2D AKLT state is universal for\nmeasurement
 -based quantum computation.
CLASS:PUBLIC
DESCRIPTION:Robert Raussendorf\, University of British Columbia
DTSTAMP:20260419T121330Z
END:VEVENT
END:VCALENDAR