BEGIN:VCALENDAR
VERSION:2.0
PRODID:-//Drupal iCal API//EN
X-WR-CALNAME:Events items teaser
X-WR-TIMEZONE:America/Toronto
BEGIN:VTIMEZONE
TZID:America/Toronto
X-LIC-LOCATION:America/Toronto
BEGIN:DAYLIGHT
TZNAME:EDT
TZOFFSETFROM:-0500
TZOFFSETTO:-0400
DTSTART:20100314T070000
END:DAYLIGHT
BEGIN:STANDARD
TZNAME:EST
TZOFFSETFROM:-0400
TZOFFSETTO:-0500
DTSTART:20101107T060000
END:STANDARD
END:VTIMEZONE
BEGIN:VEVENT
UID:69e4c763e6e2a
DTSTART;TZID=America/Toronto:20110214T123000
SEQUENCE:0
TRANSP:TRANSPARENT
DTEND;TZID=America/Toronto:20110214T133000
URL:https://uwaterloo.ca/institute-for-quantum-computing/events/oleg-gittso
 vich-squashing-model-and-applications-quantum-key
LOCATION:RAC - Research Advancement Centre 475 Wes Graham Way 2009 Waterloo
  ON N2L 6R2 Canada
SUMMARY:Oleg Gittsovich : Squashing model and applications to quantum key\n
 distribution protocols
CLASS:PUBLIC
DESCRIPTION:Oleg Gittsovich\, IQC \n\nABSTRACT\n\nWe present a framework fo
 r describing linear optical measurement\ndevices. This leads to the defini
 tion of the squashing map. We\ndemonstrate that this general approach give
 s strong statements for\nseveral measurement devices commonly used in opti
 cal implementations\nof quantum communication protocols.
DTSTAMP:20260419T121531Z
END:VEVENT
END:VCALENDAR