BEGIN:VCALENDAR
VERSION:2.0
PRODID:-//Drupal iCal API//EN
X-WR-CALNAME:Events items teaser
X-WR-TIMEZONE:America/Toronto
BEGIN:VTIMEZONE
TZID:America/Toronto
X-LIC-LOCATION:America/Toronto
BEGIN:DAYLIGHT
TZNAME:EDT
TZOFFSETFROM:-0500
TZOFFSETTO:-0400
DTSTART:20110313T070000
END:DAYLIGHT
BEGIN:STANDARD
TZNAME:EST
TZOFFSETFROM:-0400
TZOFFSETTO:-0500
DTSTART:20101107T060000
END:STANDARD
END:VTIMEZONE
BEGIN:VEVENT
UID:69e4c7ab1a215
DTSTART;TZID=America/Toronto:20110328T150000
SEQUENCE:0
TRANSP:TRANSPARENT
DTEND;TZID=America/Toronto:20110328T170000
URL:https://uwaterloo.ca/institute-for-quantum-computing/events/tzu-chieh-w
 ei-valence-bond-ground-states-isotropic-quantum
LOCATION:RAC - Research Advancement Centre 475 Wes Graham Way 2009 Waterloo
  ON N2L 6R2 Canada
SUMMARY:Tzu Chieh Wei: Valence-bond ground states of isotropic quantum\nant
 iferromagnets for universal quantum computation
CLASS:PUBLIC
DESCRIPTION:Tzu Chieh Wei\, University of British Columbia
DTSTAMP:20260419T121643Z
END:VEVENT
END:VCALENDAR