BEGIN:VCALENDAR
VERSION:2.0
PRODID:-//Drupal iCal API//EN
X-WR-CALNAME:Events items teaser
X-WR-TIMEZONE:America/Toronto
BEGIN:VTIMEZONE
TZID:America/Toronto
X-LIC-LOCATION:America/Toronto
BEGIN:DAYLIGHT
TZNAME:EDT
TZOFFSETFROM:-0500
TZOFFSETTO:-0400
DTSTART:20110313T070000
END:DAYLIGHT
BEGIN:STANDARD
TZNAME:EST
TZOFFSETFROM:-0400
TZOFFSETTO:-0500
DTSTART:20101107T060000
END:STANDARD
END:VTIMEZONE
BEGIN:VEVENT
UID:69e4c4e43b8e3
DTSTART;TZID=America/Toronto:20110405T120000
SEQUENCE:0
TRANSP:TRANSPARENT
DTEND;TZID=America/Toronto:20110405T130000
URL:https://uwaterloo.ca/institute-for-quantum-computing/events/matthew-lei
 fer-quantum-conditional-states-bayes-rule-and
LOCATION:RAC - Research Advancement Centre 475 Wes Graham Way 2009 Waterloo
  ON N2L 6R2 Canada
SUMMARY:Matthew Leifer: Quantum Conditional States\, Bayes Rule and State\n
 Compatibility
CLASS:PUBLIC
DESCRIPTION:Matthew Leifer\, University College London
DTSTAMP:20260419T120452Z
END:VEVENT
END:VCALENDAR