BEGIN:VCALENDAR
VERSION:2.0
PRODID:-//Drupal iCal API//EN
X-WR-CALNAME:Events items teaser
X-WR-TIMEZONE:America/Toronto
BEGIN:VTIMEZONE
TZID:America/Toronto
X-LIC-LOCATION:America/Toronto
BEGIN:DAYLIGHT
TZNAME:EDT
TZOFFSETFROM:-0500
TZOFFSETTO:-0400
DTSTART:20130310T070000
END:DAYLIGHT
BEGIN:STANDARD
TZNAME:EST
TZOFFSETFROM:-0400
TZOFFSETTO:-0500
DTSTART:20121104T060000
END:STANDARD
END:VTIMEZONE
BEGIN:VEVENT
UID:69e51478a3617
DTSTART;TZID=America/Toronto:20130729T210000
SEQUENCE:0
TRANSP:TRANSPARENT
DTEND;TZID=America/Toronto:20130802T140000
URL:https://uwaterloo.ca/institute-for-quantum-computing/events/qkd-summer-
 school-2013
SUMMARY:Quantum Key Distribution Summer School 2013
CLASS:PUBLIC
DESCRIPTION:This five-day program consisting of lectures and tutorials focu
 ses on\ntheoretical and experimental aspects of quantum communication\,\ne
 specially quantum cryptography.
DTSTAMP:20260419T174424Z
END:VEVENT
END:VCALENDAR