BEGIN:VCALENDAR
VERSION:2.0
PRODID:-//Drupal iCal API//EN
X-WR-CALNAME:Events items teaser
X-WR-TIMEZONE:America/Toronto
BEGIN:VTIMEZONE
TZID:America/Toronto
X-LIC-LOCATION:America/Toronto
BEGIN:DAYLIGHT
TZNAME:EDT
TZOFFSETFROM:-0500
TZOFFSETTO:-0400
DTSTART:20130310T070000
END:DAYLIGHT
BEGIN:STANDARD
TZNAME:EST
TZOFFSETFROM:-0400
TZOFFSETTO:-0500
DTSTART:20131103T060000
END:STANDARD
END:VTIMEZONE
BEGIN:VEVENT
UID:69e56f2fd0083
DTSTART;TZID=America/Toronto:20140108T143000
SEQUENCE:0
TRANSP:TRANSPARENT
DTEND;TZID=America/Toronto:20140108T152500
URL:https://uwaterloo.ca/institute-for-quantum-computing/events/nicolas-men
 icucci-gigantic-quantum-computers-made-out-laser
LOCATION:QNC - Quantum Nano Centre 200 University Avenue West 0101 Waterloo
  ON N2L 3G1 Canada
SUMMARY:Nicolas Menicucci: Gigantic quantum computers made out of laser lig
 ht
CLASS:PUBLIC
DESCRIPTION:Nicolas Menicucci\, The University of Sydney
DTSTAMP:20260420T001127Z
END:VEVENT
END:VCALENDAR