BEGIN:VCALENDAR
VERSION:2.0
PRODID:-//Drupal iCal API//EN
X-WR-CALNAME:Events items teaser
X-WR-TIMEZONE:America/Toronto
BEGIN:VTIMEZONE
TZID:America/Toronto
X-LIC-LOCATION:America/Toronto
BEGIN:DAYLIGHT
TZNAME:EDT
TZOFFSETFROM:-0500
TZOFFSETTO:-0400
DTSTART:20130310T070000
END:DAYLIGHT
BEGIN:STANDARD
TZNAME:EST
TZOFFSETFROM:-0400
TZOFFSETTO:-0500
DTSTART:20131103T060000
END:STANDARD
END:VTIMEZONE
BEGIN:VEVENT
UID:69e56f2f5e72d
DTSTART;TZID=America/Toronto:20140121T133000
SEQUENCE:0
TRANSP:TRANSPARENT
DTEND;TZID=America/Toronto:20140121T143000
URL:https://uwaterloo.ca/institute-for-quantum-computing/events/endres-prob
 ing-quantum-many-body-systems-single-particle
LOCATION:QNC - Quantum Nano Centre 200 University Avenue West 1102 Waterloo
  ON N2L 3G1 Canada
SUMMARY:Endres: Probing quantum many-body systems at the single-particle le
 vel
CLASS:PUBLIC
DESCRIPTION:DR. MANUEL ENDRES\, MAX PLANCK INSTITUTE OF QUANTUM OPTICS IN G
 ARCHING\,\nGERMANY\n\nJOINT IQC PHYSICS SEMINAR\n\nThe manipulation and de
 tection of individual quantum excitations forms\nthe basis of modern quant
 um physics experiments. However\, most of\nthese experiments have been res
 tricted to systems composed of only a\nfew particles.
DTSTAMP:20260420T001127Z
END:VEVENT
END:VCALENDAR