BEGIN:VCALENDAR
VERSION:2.0
PRODID:-//Drupal iCal API//EN
X-WR-CALNAME:Events items teaser
X-WR-TIMEZONE:America/Toronto
BEGIN:VTIMEZONE
TZID:America/Toronto
X-LIC-LOCATION:America/Toronto
BEGIN:DAYLIGHT
TZNAME:EDT
TZOFFSETFROM:-0500
TZOFFSETTO:-0400
DTSTART:20130310T070000
END:DAYLIGHT
BEGIN:STANDARD
TZNAME:EST
TZOFFSETFROM:-0400
TZOFFSETTO:-0500
DTSTART:20131103T060000
END:STANDARD
END:VTIMEZONE
BEGIN:VEVENT
UID:69e4ccc674dda
DTSTART;TZID=America/Toronto:20140120T143000
SEQUENCE:0
TRANSP:TRANSPARENT
DTEND;TZID=America/Toronto:20140120T153000
URL:https://uwaterloo.ca/institute-for-quantum-computing/events/love-new-di
 rections-quantum-simulation-quantum-chemistry
LOCATION:QNC - Quantum Nano Centre 200 University Avenue West 0101 Waterloo
  ON N2L 3G1 Canada
SUMMARY:Love: New Directions in Quantum Simulation of Quantum Chemistry
CLASS:PUBLIC
DESCRIPTION:PETER LOVE\, HAVERFORD COLLEGE\n\nQuantum simulation proposes t
 o use future quantum computers to\ncalculate properties of quantum systems
 . In the context of chemistry\,\nthe target is the electronic structure pr
 oblem: determination of the\nelectronic energy given the nuclear coordinat
 es of a molecule. Since\n2006 we have been studying quantum approaches to 
 quantum chemical\nproblems\, and such approaches must face the challenges 
 of high\, but\nfixed\, precision requirements\, and fermion antisymmetry.
DTSTAMP:20260419T123830Z
END:VEVENT
END:VCALENDAR