BEGIN:VCALENDAR
VERSION:2.0
PRODID:-//Drupal iCal API//EN
X-WR-CALNAME:Events items teaser
X-WR-TIMEZONE:America/Toronto
BEGIN:VTIMEZONE
TZID:America/Toronto
X-LIC-LOCATION:America/Toronto
BEGIN:DAYLIGHT
TZNAME:EDT
TZOFFSETFROM:-0500
TZOFFSETTO:-0400
DTSTART:20140309T070000
END:DAYLIGHT
BEGIN:STANDARD
TZNAME:EST
TZOFFSETFROM:-0400
TZOFFSETTO:-0500
DTSTART:20131103T060000
END:STANDARD
END:VTIMEZONE
BEGIN:VEVENT
UID:69e97b8a6fe65
DTSTART;TZID=America/Toronto:20140526T000000
SEQUENCE:0
TRANSP:TRANSPARENT
DTEND;TZID=America/Toronto:20140606T000000
URL:https://uwaterloo.ca/institute-for-quantum-computing/events/undergradua
 te-school-experimental-quantum-information
LOCATION:QNC - Quantum Nano Centre 200 University Avenue West Waterloo ON N
 2L 3G1 Canada
SUMMARY:Undergraduate School on Experimental Quantum Information Processing
 \n(USEQIP)
CLASS:PUBLIC
DESCRIPTION:The Undergraduate School on Experimental Quantum Information\nP
 rocessing (USEQIP) is a two-week program on the theoretical and\nexperimen
 tal study of quantum information aimed primarily at students\ncompleting t
 heir third undergraduate year. The lectures and\nexperiments are geared to
 ward students in engineering\, physics\,\nchemistry\, mathematics and comp
 uter science\, though all interested\nstudents are invited to apply.
DTSTAMP:20260423T015314Z
END:VEVENT
END:VCALENDAR