BEGIN:VCALENDAR
VERSION:2.0
PRODID:-//Drupal iCal API//EN
X-WR-CALNAME:Events items teaser
X-WR-TIMEZONE:America/Toronto
BEGIN:VTIMEZONE
TZID:America/Toronto
X-LIC-LOCATION:America/Toronto
BEGIN:DAYLIGHT
TZNAME:EDT
TZOFFSETFROM:-0500
TZOFFSETTO:-0400
DTSTART:20130310T070000
END:DAYLIGHT
BEGIN:STANDARD
TZNAME:EST
TZOFFSETFROM:-0400
TZOFFSETTO:-0500
DTSTART:20131103T060000
END:STANDARD
END:VTIMEZONE
BEGIN:VEVENT
UID:69e515631c212
DTSTART;TZID=America/Toronto:20140224T143000
SEQUENCE:0
TRANSP:TRANSPARENT
DTEND;TZID=America/Toronto:20140224T153000
URL:https://uwaterloo.ca/institute-for-quantum-computing/events/kimble-atom
 -light-interactions-photonic-crystals
LOCATION:QNC - Quantum Nano Centre 200 University Avenue West 0101 Waterloo
  ON N2L 3G1 Canada
SUMMARY:Kimble: Atom-Light Interactions in Photonic Crystals
CLASS:PUBLIC
DESCRIPTION:H. JEFF KIMBLE\, CALIFORNIA INSTITUTE OF TECHNOLOGY\n\nLocalizi
 ng arrays of atoms in photonic crystals could provide new\ncapabilities fo
 r quantum networks and quantum many-body physics.\nIntriguing theoretical 
 analyses suggest the emergence of completely\nnew paradigms for strong ato
 m-photon interactions that exploit the\ntremendous flexibility for modal a
 nd dispersion engineering of one and\ntwo-dimensional photonic crystals.
DTSTAMP:20260419T174819Z
END:VEVENT
END:VCALENDAR