BEGIN:VCALENDAR
VERSION:2.0
PRODID:-//Drupal iCal API//EN
X-WR-CALNAME:Events items teaser
X-WR-TIMEZONE:America/Toronto
BEGIN:VTIMEZONE
TZID:America/Toronto
X-LIC-LOCATION:America/Toronto
BEGIN:DAYLIGHT
TZNAME:EDT
TZOFFSETFROM:-0500
TZOFFSETTO:-0400
DTSTART:20130310T070000
END:DAYLIGHT
BEGIN:STANDARD
TZNAME:EST
TZOFFSETFROM:-0400
TZOFFSETTO:-0500
DTSTART:20131103T060000
END:STANDARD
END:VTIMEZONE
BEGIN:VEVENT
UID:69e56f355f60d
DTSTART;TZID=America/Toronto:20140221T140000
SEQUENCE:0
TRANSP:TRANSPARENT
DTEND;TZID=America/Toronto:20140221T150000
URL:https://uwaterloo.ca/institute-for-quantum-computing/events/spekkens-pu
 sey-how-demonstrate-contextuality-realistic
LOCATION:QNC - Quantum Nano Centre 200 University Avenue West 1102 Waterloo
  ON N2L 3G1 Canada
SUMMARY:Spekkens &amp; Pusey: How to demonstrate contextuality in a realistic\n
 experiment
CLASS:PUBLIC
DESCRIPTION:ROB SPEKKENS &amp; MATTHEW PUSEY\n\n- PERIMETER INSTITUTE\n\n1) How
  to experimentally test the notion of noncontextuality\n\nRob Spekkens\n\n
 2) How to demonstrate contextuality in a realistic experiment\n\nMatthew P
 usey
DTSTAMP:20260420T001133Z
END:VEVENT
END:VCALENDAR