BEGIN:VCALENDAR
VERSION:2.0
PRODID:-//Drupal iCal API//EN
X-WR-CALNAME:Events items teaser
X-WR-TIMEZONE:America/Toronto
BEGIN:VTIMEZONE
TZID:America/Toronto
X-LIC-LOCATION:America/Toronto
BEGIN:DAYLIGHT
TZNAME:EDT
TZOFFSETFROM:-0500
TZOFFSETTO:-0400
DTSTART:20140309T070000
END:DAYLIGHT
BEGIN:STANDARD
TZNAME:EST
TZOFFSETFROM:-0400
TZOFFSETTO:-0500
DTSTART:20131103T060000
END:STANDARD
END:VTIMEZONE
BEGIN:VEVENT
UID:69e515652ac64
DTSTART;TZID=America/Toronto:20140317T143000
SEQUENCE:0
TRANSP:TRANSPARENT
DTEND;TZID=America/Toronto:20140317T153000
URL:https://uwaterloo.ca/institute-for-quantum-computing/events/delsing-int
 eraction-between-propagating-phonons-and
LOCATION:QNC - Quantum Nano Centre 200 University Avenue West 0101 Waterloo
  ON N2L 3G1 Canada
SUMMARY:Delsing: Interaction between propagating phonons and a superconduct
 ing\nqubit
CLASS:PUBLIC
DESCRIPTION:PER DELSING\, CHALMERS UNIVERSITY OF TECHNOLOGY SWEDEN\n\nWe pr
 esent a new type of mechanical quantum device\, where propagating\nsurface
  acoustic wave (SAW) phonons serve as carriers for quantum\ninformation. A
 t the core of our device is a superconducting qubit\,\ndesigned to couple 
 to SAW waves in the underlying substrate through\nthe piezoelectric effect
 . This type of coupling can be very strong\,\nand in our case exceeds the 
 coupling to any external electromagnetic\nmode.
DTSTAMP:20260419T174821Z
END:VEVENT
END:VCALENDAR