BEGIN:VCALENDAR
VERSION:2.0
PRODID:-//Drupal iCal API//EN
X-WR-CALNAME:Events items teaser
X-WR-TIMEZONE:America/Toronto
BEGIN:VTIMEZONE
TZID:America/Toronto
X-LIC-LOCATION:America/Toronto
BEGIN:DAYLIGHT
TZNAME:EDT
TZOFFSETFROM:-0500
TZOFFSETTO:-0400
DTSTART:20130310T070000
END:DAYLIGHT
BEGIN:STANDARD
TZNAME:EST
TZOFFSETFROM:-0400
TZOFFSETTO:-0500
DTSTART:20131103T060000
END:STANDARD
END:VTIMEZONE
BEGIN:VEVENT
UID:69e4f9b282bfa
DTSTART;TZID=America/Toronto:20140305T140000
SEQUENCE:0
TRANSP:TRANSPARENT
DTEND;TZID=America/Toronto:20140305T150000
URL:https://uwaterloo.ca/institute-for-quantum-computing/events/leuchs-inve
 rse-spontaneous-emission-atom-free-space-example
LOCATION:QNC - Quantum Nano Centre 200 University Avenue West 0101 Waterloo
  ON N2L 3G1 Canada
SUMMARY:Leuchs: Inverse spontaneous emission of an atom in free space – a
 n\nexample of time reversal symmetry in optics
CLASS:PUBLIC
DESCRIPTION:GERD LEUCHS\, MAX PLANCK INSTITUTE FOR THE SCIENCE OF LIGHT\n\n
 The coupling between light and a single atom is probably the most\nfundame
 ntal process in quantum optics. The best strategy for\nefficiently couplin
 g light to a single atom in free space depends on\nthe goal. If the goal i
 s to maximally attenuate a laser beam\,\nnarrow-band on- resonance laser r
 adiation is required as well as a\nwave front approaching the atom from a 
 2_ solid angle.
DTSTAMP:20260419T155010Z
END:VEVENT
END:VCALENDAR