BEGIN:VCALENDAR
VERSION:2.0
PRODID:-//Drupal iCal API//EN
X-WR-CALNAME:Events items teaser
X-WR-TIMEZONE:America/Toronto
BEGIN:VTIMEZONE
TZID:America/Toronto
X-LIC-LOCATION:America/Toronto
BEGIN:DAYLIGHT
TZNAME:EDT
TZOFFSETFROM:-0500
TZOFFSETTO:-0400
DTSTART:20140309T070000
END:DAYLIGHT
BEGIN:STANDARD
TZNAME:EST
TZOFFSETFROM:-0400
TZOFFSETTO:-0500
DTSTART:20131103T060000
END:STANDARD
END:VTIMEZONE
BEGIN:VEVENT
UID:69e51565b3276
DTSTART;TZID=America/Toronto:20140409T150000
SEQUENCE:0
TRANSP:TRANSPARENT
DTEND;TZID=America/Toronto:20140409T160000
URL:https://uwaterloo.ca/institute-for-quantum-computing/events/traub-algor
 ithms-and-complexity-quantum-computing
LOCATION:QNC - Quantum Nano Centre 200 University Avenue West 0101 Waterloo
  ON N2L 3G1 Canada
SUMMARY:Traub: Algorithms and Complexity for Quantum Computing
CLASS:PUBLIC
DESCRIPTION:JOSEPH F. TRAUB\, COLUMBIA UNIVERSITY\n\nWe introduce the notio
 n of strong quantum speedup. To compute this\nspeedup one must know the cl
 assical computational complexity. What is\nit about the problems of quantu
 m physics and quantum chemistry that\nenable us to get lower bounds on the
  classical complexity?
DTSTAMP:20260419T174821Z
END:VEVENT
END:VCALENDAR