BEGIN:VCALENDAR
VERSION:2.0
PRODID:-//Drupal iCal API//EN
X-WR-CALNAME:Events items teaser
X-WR-TIMEZONE:America/Toronto
BEGIN:VTIMEZONE
TZID:America/Toronto
X-LIC-LOCATION:America/Toronto
BEGIN:DAYLIGHT
TZNAME:EDT
TZOFFSETFROM:-0500
TZOFFSETTO:-0400
DTSTART:20140309T070000
END:DAYLIGHT
BEGIN:STANDARD
TZNAME:EST
TZOFFSETFROM:-0400
TZOFFSETTO:-0500
DTSTART:20131103T060000
END:STANDARD
END:VTIMEZONE
BEGIN:VEVENT
UID:69e44a840c94e
DTSTART;TZID=America/Toronto:20140331T143000
SEQUENCE:0
TRANSP:TRANSPARENT
DTEND;TZID=America/Toronto:20140331T153000
URL:https://uwaterloo.ca/institute-for-quantum-computing/events/cai-nano-sc
 ale-quantum-sensing-color-centers-diamond
LOCATION:QNC - Quantum Nano Centre 200 University Avenue West 0101 Waterloo
  ON N2L 3G1 Canada
SUMMARY:Cai: Nano-scale quantum sensing with color centers in diamond
CLASS:PUBLIC
DESCRIPTION:DR. JIANMING CAI\, UNIVERSITÄT ULM\n\nColor centers are atomic
  defects in diamond that possess electronic\nand nuclear spins.\nThe rapid
  progress of experiments with color centers in diamond\nindicates that\nth
 ey are promising systems for quantum information processing\, and\nmore im
 portant for quantum\nsensing (imaging) under ambient conditions.
DTSTAMP:20260419T032244Z
END:VEVENT
END:VCALENDAR