BEGIN:VCALENDAR
VERSION:2.0
PRODID:-//Drupal iCal API//EN
X-WR-CALNAME:Events items teaser
X-WR-TIMEZONE:America/Toronto
BEGIN:VTIMEZONE
TZID:America/Toronto
X-LIC-LOCATION:America/Toronto
BEGIN:DAYLIGHT
TZNAME:EDT
TZOFFSETFROM:-0500
TZOFFSETTO:-0400
DTSTART:20140309T070000
END:DAYLIGHT
BEGIN:STANDARD
TZNAME:EST
TZOFFSETFROM:-0400
TZOFFSETTO:-0500
DTSTART:20131103T060000
END:STANDARD
END:VTIMEZONE
BEGIN:VEVENT
UID:69e56f2a57514
DTSTART;TZID=America/Toronto:20140324T143000
SEQUENCE:0
TRANSP:TRANSPARENT
DTEND;TZID=America/Toronto:20140324T153000
URL:https://uwaterloo.ca/institute-for-quantum-computing/events/gall-quantu
 m-complexity-matrix-multiplication
LOCATION:QNC - Quantum Nano Centre 200 University Avenue West 0101 Waterloo
  ON N2L 3G1 Canada
SUMMARY:Le Gall: Quantum Complexity of Matrix Multiplication
CLASS:PUBLIC
DESCRIPTION:FRANCOIS LE GALL\, THE UNIVERSITY OF TOKYO\n\nIn this talk I wi
 ll describe recent progresses in the development of\nquantum algorithms fo
 r matrix multiplication. I will start with the\ncase of Boolean matrices\,
  and discuss the time complexity and query\ncomplexity of Boolean matrix m
 ultiplication in the quantum setting.
DTSTAMP:20260420T001122Z
END:VEVENT
END:VCALENDAR