BEGIN:VCALENDAR
VERSION:2.0
PRODID:-//Drupal iCal API//EN
X-WR-CALNAME:Events items teaser
X-WR-TIMEZONE:America/Toronto
BEGIN:VTIMEZONE
TZID:America/Toronto
X-LIC-LOCATION:America/Toronto
BEGIN:DAYLIGHT
TZNAME:EDT
TZOFFSETFROM:-0500
TZOFFSETTO:-0400
DTSTART:20140309T070000
END:DAYLIGHT
BEGIN:STANDARD
TZNAME:EST
TZOFFSETFROM:-0400
TZOFFSETTO:-0500
DTSTART:20131103T060000
END:STANDARD
END:VTIMEZONE
BEGIN:VEVENT
UID:69e4f9b68954d
DTSTART;TZID=America/Toronto:20140313T153000
SEQUENCE:0
TRANSP:TRANSPARENT
DTEND;TZID=America/Toronto:20140313T163000
URL:https://uwaterloo.ca/institute-for-quantum-computing/events/huenchuir-n
 ew-trends-circuit-quantum-electrodynamics
LOCATION:QNC - Quantum Nano Centre 200 University Avenue West 0101 Waterloo
  ON N2L 3G1 Canada
SUMMARY:Huenchuir: New trends in circuit quantum electrodynamics
CLASS:PUBLIC
DESCRIPTION:GUILLERMO ESTEBAN ROMERO HUENCHUIR\, UNIVERSITY OF BASQUE COUNT
 RY\,\nSPAIN\n\nIn this talk\, I will present my past\, present\, and new p
 rojects in the\nfield of circuit quantum electrodynamics. First\, I will s
 how a\nproposal for microwave photodetection and how it has influenced our
 \ncommunity to develop experiments and further theoretical developments.\n
 Second\, I will show the first theoretical proposal of circuit QED with\na
  quantum point contact as a two-level system.
DTSTAMP:20260419T155014Z
END:VEVENT
END:VCALENDAR