BEGIN:VCALENDAR
VERSION:2.0
PRODID:-//Drupal iCal API//EN
X-WR-CALNAME:Events items teaser
X-WR-TIMEZONE:America/Toronto
BEGIN:VTIMEZONE
TZID:America/Toronto
X-LIC-LOCATION:America/Toronto
BEGIN:DAYLIGHT
TZNAME:EDT
TZOFFSETFROM:-0500
TZOFFSETTO:-0400
DTSTART:20140309T070000
END:DAYLIGHT
BEGIN:STANDARD
TZNAME:EST
TZOFFSETFROM:-0400
TZOFFSETTO:-0500
DTSTART:20131103T060000
END:STANDARD
END:VTIMEZONE
BEGIN:VEVENT
UID:69e688a9b6d61
DTSTART;TZID=America/Toronto:20140402T190000
SEQUENCE:0
TRANSP:TRANSPARENT
DTEND;TZID=America/Toronto:20140402T190000
URL:https://uwaterloo.ca/institute-for-quantum-computing/events/screening-g
 ravity
LOCATION:QNC - Lazaridis Quantum Nano Centre 200 University Avenue West Laz
 aridis QNC 0101 Waterloo ON N2L 3G1 Canada
SUMMARY:Screening of Gravity
CLASS:PUBLIC
DESCRIPTION:The Institute for Quantum Computing's (IQC) Grad Student Associ
 ation \nis screening the 7 Academy Award winning movie Gravity on April 2
 nd at\n7 pm. The event will be followed by a short presentation and Q&amp;A wi
 th\nIQC's  associate member\, astronaut\, and former Canadian Space Agenc
 y\npresident Steve MacLean.
DTSTAMP:20260420T201225Z
END:VEVENT
END:VCALENDAR