BEGIN:VCALENDAR
VERSION:2.0
PRODID:-//Drupal iCal API//EN
X-WR-CALNAME:Events items teaser
X-WR-TIMEZONE:America/Toronto
BEGIN:VTIMEZONE
TZID:America/Toronto
X-LIC-LOCATION:America/Toronto
BEGIN:DAYLIGHT
TZNAME:EDT
TZOFFSETFROM:-0500
TZOFFSETTO:-0400
DTSTART:20140309T070000
END:DAYLIGHT
BEGIN:STANDARD
TZNAME:EST
TZOFFSETFROM:-0400
TZOFFSETTO:-0500
DTSTART:20131103T060000
END:STANDARD
END:VTIMEZONE
BEGIN:VEVENT
UID:69e4cd5cd2faa
DTSTART;TZID=America/Toronto:20140331T110000
SEQUENCE:0
TRANSP:TRANSPARENT
DTEND;TZID=America/Toronto:20140331T122000
URL:https://uwaterloo.ca/institute-for-quantum-computing/events/reimer-semi
 conductor-quantum-light-sources
LOCATION:EIT - Centre for Environmental and Information Technology 200 Univ
 ersity Avenue West 3142 Waterloo ON N2L 3G1 Canada
SUMMARY:Reimer: Semiconductor quantum light sources
CLASS:PUBLIC
DESCRIPTION:MICHAEL REIMER\, DELFT UNIVERSITY OF TECHNOLOGY\, NETHERLANDS
DTSTAMP:20260419T124100Z
END:VEVENT
END:VCALENDAR