BEGIN:VCALENDAR
VERSION:2.0
PRODID:-//Drupal iCal API//EN
X-WR-CALNAME:Events items teaser
X-WR-TIMEZONE:America/Toronto
BEGIN:VTIMEZONE
TZID:America/Toronto
X-LIC-LOCATION:America/Toronto
BEGIN:DAYLIGHT
TZNAME:EDT
TZOFFSETFROM:-0500
TZOFFSETTO:-0400
DTSTART:20140309T070000
END:DAYLIGHT
BEGIN:STANDARD
TZNAME:EST
TZOFFSETFROM:-0400
TZOFFSETTO:-0500
DTSTART:20131103T060000
END:STANDARD
END:VTIMEZONE
BEGIN:VEVENT
UID:69e56f38d0caf
DTSTART;TZID=America/Toronto:20140407T130000
SEQUENCE:0
TRANSP:TRANSPARENT
DTEND;TZID=America/Toronto:20140407T130000
URL:https://uwaterloo.ca/institute-for-quantum-computing/events/hormozi-top
 ological-quantum-compiling-fractional-quantum
LOCATION:QNC - Quantum Nano Centre 200 University Avenue West 1102 Waterloo
  ON N2L 3G1 Canada
SUMMARY:Hormozi: Topological Quantum Compiling with Fractional Quantum Hall
 \nStates
CLASS:PUBLIC
DESCRIPTION:LAYLA HORMOZI\, NATIONAL UNIVERSITY OF IRELAND\n\nA topological
  quantum computer is a hypothetical device in which\nintrinsic fault-toler
 ance is embedded in the hardware of the quantum\ncomputer. It is envisione
 d that in these devices quantum information\nwill be stored in certain top
 ologically ordered states of matter and\nquantum computation will be carri
 ed out by braiding the world-lines of\nquasiparticle excitations that obey
  non-Abelian statistics\, around one\nanother\, in specific patterns.
DTSTAMP:20260420T001136Z
END:VEVENT
END:VCALENDAR