BEGIN:VCALENDAR
VERSION:2.0
PRODID:-//Drupal iCal API//EN
X-WR-CALNAME:Events items teaser
X-WR-TIMEZONE:America/Toronto
BEGIN:VTIMEZONE
TZID:America/Toronto
X-LIC-LOCATION:America/Toronto
BEGIN:DAYLIGHT
TZNAME:EDT
TZOFFSETFROM:-0500
TZOFFSETTO:-0400
DTSTART:20140309T070000
END:DAYLIGHT
BEGIN:STANDARD
TZNAME:EST
TZOFFSETFROM:-0400
TZOFFSETTO:-0500
DTSTART:20131103T060000
END:STANDARD
END:VTIMEZONE
BEGIN:VEVENT
UID:69e58f6b04bb6
DTSTART;TZID=America/Toronto:20140428T143000
SEQUENCE:0
TRANSP:TRANSPARENT
DTEND;TZID=America/Toronto:20140428T153000
URL:https://uwaterloo.ca/institute-for-quantum-computing/events/raul-garcia
 -patron-ultimate-communication-capacity-quantum
LOCATION:QNC - Quantum Nano Centre 200 University Avenue West 0101 Waterloo
  ON N2L 3G1 Canada
SUMMARY:Raul Garcia-Patron: Ultimate communication capacity of quantum opti
 cal\nchannels
CLASS:PUBLIC
DESCRIPTION:RAUL GARCIA-PATRON\, MAX-PLANCK-INSTITUT FÜR QUANTENOPTIK\n\nO
 ptical channels\, such as fibers or free-space links\, are ubiquitous\nin 
 today's telecommunication networks. A complete physical model of\nthese ch
 annels must necessarily take quantum effects into account in\norder to det
 ermine their ultimate performances. Specifically\, Gaussian\nbosonic quant
 um channels have been extensively studied over the past\ndecades given the
 ir importance for practical purposes.
DTSTAMP:20260420T022859Z
END:VEVENT
END:VCALENDAR