BEGIN:VCALENDAR
VERSION:2.0
PRODID:-//Drupal iCal API//EN
X-WR-CALNAME:Events items teaser
X-WR-TIMEZONE:America/Toronto
BEGIN:VTIMEZONE
TZID:America/Toronto
X-LIC-LOCATION:America/Toronto
BEGIN:DAYLIGHT
TZNAME:EDT
TZOFFSETFROM:-0500
TZOFFSETTO:-0400
DTSTART:20140309T070000
END:DAYLIGHT
BEGIN:STANDARD
TZNAME:EST
TZOFFSETFROM:-0400
TZOFFSETTO:-0500
DTSTART:20131103T060000
END:STANDARD
END:VTIMEZONE
BEGIN:VEVENT
UID:69e693a17c8c8
DTSTART;TZID=America/Toronto:20141027T143000
SEQUENCE:0
TRANSP:TRANSPARENT
DTEND;TZID=America/Toronto:20141027T153000
URL:https://uwaterloo.ca/institute-for-quantum-computing/events/eyal-buks-b
 ack-reaction-effects-optomechanical-cavities
LOCATION:QNC - Quantum Nano Centre 200 University Avenue West 0101 Waterloo
  ON N2L 3G1 Canada
SUMMARY:Eyal Buks: Back-reaction Effects in Optomechanical Cavities
CLASS:PUBLIC
DESCRIPTION:EYAL BUKS\, TECHNION – ISRAEL INSTITUTE OF TECHNOLOGY\n\nThe 
 ﬁeld of cavity optomechanics deals with a family of systems\,\neach is c
 omposed of two coupled elements. The ﬁrst one is a\nmechanical resonator
 \, commonly having low damping rate\, and the second\none is an ancilla sy
 stem\, which is typically externally driven. The\ntalk will be devoted to 
 three configurations: a mechanical\nopto-microwave cavity [1] \, an on-fib
 er optomechanical cavity [2] \,\nand a vibrating superconducting quantum i
 nterference device (SQUID)\n[3].
DTSTAMP:20260420T205913Z
END:VEVENT
END:VCALENDAR