BEGIN:VCALENDAR
VERSION:2.0
PRODID:-//Drupal iCal API//EN
X-WR-CALNAME:Events items teaser
X-WR-TIMEZONE:America/Toronto
BEGIN:VTIMEZONE
TZID:America/Toronto
X-LIC-LOCATION:America/Toronto
BEGIN:DAYLIGHT
TZNAME:EDT
TZOFFSETFROM:-0500
TZOFFSETTO:-0400
DTSTART:20150308T070000
END:DAYLIGHT
BEGIN:STANDARD
TZNAME:EST
TZOFFSETFROM:-0400
TZOFFSETTO:-0500
DTSTART:20141102T060000
END:STANDARD
END:VTIMEZONE
BEGIN:VEVENT
UID:69e74358d6f01
DTSTART;TZID=America/Toronto:20150608T000000
SEQUENCE:0
TRANSP:TRANSPARENT
DTEND;TZID=America/Toronto:20150611T000000
URL:https://uwaterloo.ca/institute-for-quantum-computing/events/quantum-pro
 gramming-and-circuits-workshop
LOCATION:QNC - Quantum Nano Centre 200 University Avenue West Waterloo ON N
 2L 3G1 Canada
SUMMARY:Quantum Programming and Circuits Workshop
CLASS:PUBLIC
DESCRIPTION:[Equations on a whiteboard]The workshop aims at bringing togeth
 er\nresearchers from quantum computing and classical programming\nlanguage
 s.
DTSTAMP:20260421T092856Z
END:VEVENT
END:VCALENDAR