BEGIN:VCALENDAR
VERSION:2.0
PRODID:-//Drupal iCal API//EN
X-WR-CALNAME:Events items teaser
X-WR-TIMEZONE:America/Toronto
BEGIN:VTIMEZONE
TZID:America/Toronto
X-LIC-LOCATION:America/Toronto
BEGIN:DAYLIGHT
TZNAME:EDT
TZOFFSETFROM:-0500
TZOFFSETTO:-0400
DTSTART:20150308T070000
END:DAYLIGHT
BEGIN:STANDARD
TZNAME:EST
TZOFFSETFROM:-0400
TZOFFSETTO:-0500
DTSTART:20141102T060000
END:STANDARD
END:VTIMEZONE
BEGIN:VEVENT
UID:69e84074a617d
DTSTART;TZID=America/Toronto:20150310T190000
SEQUENCE:0
TRANSP:TRANSPARENT
DTEND;TZID=America/Toronto:20150310T190000
URL:https://uwaterloo.ca/institute-for-quantum-computing/events/cybersecuri
 ty-quantum-world-will-we-be-ready
LOCATION:QNC - Quantum Nano Centre 200 University Avenue West 0101 Waterloo
  ON N2L 3G1 Canada
SUMMARY:Cybersecurity in a quantum world - will we be ready?
CLASS:PUBLIC
DESCRIPTION:PUBLIC LECTURE BY MICHELE MOSCA\n\nEmerging quantum technologie
 s will change the way that our online\ninformation is stored and secured. 
 To be cyber-safe we must be\nquantum-safe. It’s possible\, but we need t
 o start planning now if we\nwant to be ready in time.
DTSTAMP:20260422T032852Z
END:VEVENT
END:VCALENDAR