BEGIN:VCALENDAR
VERSION:2.0
PRODID:-//Drupal iCal API//EN
X-WR-CALNAME:Events items teaser
X-WR-TIMEZONE:America/Toronto
BEGIN:VTIMEZONE
TZID:America/Toronto
X-LIC-LOCATION:America/Toronto
BEGIN:DAYLIGHT
TZNAME:EDT
TZOFFSETFROM:-0500
TZOFFSETTO:-0400
DTSTART:20150308T070000
END:DAYLIGHT
BEGIN:STANDARD
TZNAME:EST
TZOFFSETFROM:-0400
TZOFFSETTO:-0500
DTSTART:20141102T060000
END:STANDARD
END:VTIMEZONE
BEGIN:VEVENT
UID:69e688a3b88a3
DTSTART;TZID=America/Toronto:20150921T130000
SEQUENCE:0
TRANSP:TRANSPARENT
DTEND;TZID=America/Toronto:20150921T130000
URL:https://uwaterloo.ca/institute-for-quantum-computing/events/msc-thesis-
 anirudh-krishna
LOCATION:QNC - Quantum Nano Centre 200 University Avenue West Room BN201 Wa
 terloo ON N2L 3G1 Canada
SUMMARY:MSc Thesis - Anirudh Krishna
CLASS:PUBLIC
DESCRIPTION:Anirudh of the Department of Physics and Astronomy will be defe
 nding\nhis thesis:\n\nExperimentally Testable Noncontextuality Inequalitie
 s via\nFourier-Motzkin Elimination.\n\nJihyun is supervised by Professors 
 Joseph Emerson and Robert Spekkens.
DTSTAMP:20260420T201219Z
END:VEVENT
END:VCALENDAR