BEGIN:VCALENDAR
VERSION:2.0
PRODID:-//Drupal iCal API//EN
X-WR-CALNAME:Events items teaser
X-WR-TIMEZONE:America/Toronto
BEGIN:VTIMEZONE
TZID:America/Toronto
X-LIC-LOCATION:America/Toronto
BEGIN:DAYLIGHT
TZNAME:EDT
TZOFFSETFROM:-0500
TZOFFSETTO:-0400
DTSTART:20150308T070000
END:DAYLIGHT
BEGIN:STANDARD
TZNAME:EST
TZOFFSETFROM:-0400
TZOFFSETTO:-0500
DTSTART:20141102T060000
END:STANDARD
END:VTIMEZONE
BEGIN:VEVENT
UID:69e688b15acb8
DTSTART;TZID=America/Toronto:20151028T100000
SEQUENCE:0
TRANSP:TRANSPARENT
DTEND;TZID=America/Toronto:20151028T100000
URL:https://uwaterloo.ca/institute-for-quantum-computing/events/phd-thesis-
 juan-miguel-arrazola
LOCATION:QNC - Quantum Nano Centre 200 University Avenue West QNC 4104 Wate
 rloo ON N2L 3G1 Canada
SUMMARY:PhD Thesis - Juan Miguel Arrazola
CLASS:PUBLIC
DESCRIPTION:[Juan Miguel Arrazola]Juan Miguel Arrazola of the Department of
 \nPhysics and Astronomy will be defending his thesis:\n\nPractical Quantum
  Communication\n\nJuan Miguel is supervised by Professor Norbert Lütkenha
 us.
DTSTAMP:20260420T201233Z
END:VEVENT
END:VCALENDAR