BEGIN:VCALENDAR
VERSION:2.0
PRODID:-//Drupal iCal API//EN
X-WR-CALNAME:Events items teaser
X-WR-TIMEZONE:America/Toronto
BEGIN:VTIMEZONE
TZID:America/Toronto
X-LIC-LOCATION:America/Toronto
BEGIN:DAYLIGHT
TZNAME:EDT
TZOFFSETFROM:-0500
TZOFFSETTO:-0400
DTSTART:20240310T070000
END:DAYLIGHT
BEGIN:DAYLIGHT
TZNAME:EDT
TZOFFSETFROM:-0500
TZOFFSETTO:-0400
DTSTART:20220313T070000
END:DAYLIGHT
BEGIN:DAYLIGHT
TZNAME:EDT
TZOFFSETFROM:-0500
TZOFFSETTO:-0400
DTSTART:20210314T070000
END:DAYLIGHT
BEGIN:DAYLIGHT
TZNAME:EDT
TZOFFSETFROM:-0500
TZOFFSETTO:-0400
DTSTART:20200308T070000
END:DAYLIGHT
BEGIN:STANDARD
TZNAME:EST
TZOFFSETFROM:-0400
TZOFFSETTO:-0500
DTSTART:20231105T060000
END:STANDARD
BEGIN:STANDARD
TZNAME:EST
TZOFFSETFROM:-0400
TZOFFSETTO:-0500
DTSTART:20211107T060000
END:STANDARD
BEGIN:STANDARD
TZNAME:EST
TZOFFSETFROM:-0400
TZOFFSETTO:-0500
DTSTART:20201101T060000
END:STANDARD
BEGIN:STANDARD
TZNAME:EST
TZOFFSETFROM:-0400
TZOFFSETTO:-0500
DTSTART:20191103T060000
END:STANDARD
END:VTIMEZONE
BEGIN:VEVENT
UID:69ea413d50c69
DTSTART;TZID=America/Toronto:20240912T090000
SEQUENCE:0
TRANSP:TRANSPARENT
DTEND;TZID=America/Toronto:20240912T110000
URL:https://uwaterloo.ca/institute-for-quantum-computing/events/masters-the
 sis-defence-camille-lacroix
LOCATION:C2 - Chemistry 2 200 University Avenue West Room 361 Waterloo ON N
 2L 3G1 Canada
SUMMARY:Master's thesis defence - Camille Lacroix
CLASS:PUBLIC
DESCRIPTION:Development and Electronic Characterization of Graphene-Based H
 all\nEffect Devices\n\nLocation: C2-361
DTSTAMP:20260423T155645Z
END:VEVENT
BEGIN:VEVENT
UID:69ea413d52167
DTSTART;VALUE=DATE:20240501
SEQUENCE:0
TRANSP:TRANSPARENT
DTEND;VALUE=DATE:20240503
URL:https://uwaterloo.ca/institute-for-quantum-computing/events/quantum-con
 nections-2024-quantum-perspectives
LOCATION:QNC - Quantum Nano Centre 200 University Avenue West Waterloo ON N
 2L 3G1 Canada
SUMMARY:Quantum Connections 2024: Quantum Perspectives
CLASS:PUBLIC
DESCRIPTION:Join us for Quantum Connections May 1-2\, 2024. This year we’
 re\nhighlighting Quantum Perspectives: the impacts and outlooks driving\no
 ur future.
X-MICROSOFT-CDO-ALLDAYEVENT:TRUE
DTSTAMP:20260423T155645Z
END:VEVENT
BEGIN:VEVENT
UID:69ea413d52e4c
DTSTART;TZID=America/Toronto:20240417T190000
SEQUENCE:0
TRANSP:TRANSPARENT
DTEND;TZID=America/Toronto:20240417T200000
URL:https://uwaterloo.ca/institute-for-quantum-computing/events/open-quantu
 m-computing-one-atom-time
LOCATION:QNC - Quantum Nano Centre 200 University Avenue West Room 0101 Wat
 erloo ON N2L 3G1 Canada
SUMMARY:Open Quantum Computing\, One Atom at a Time
CLASS:PUBLIC
DESCRIPTION:RAJIBUL ISLAM\nFACULTY\, INSTITUTE FOR QUANTUM COMPUTING\nASSOC
 IATE PROFESSOR\, DEPARTMENT OF PHYSICS AND ASTRONOMY\, UNIVERSITY\nOF WATE
 RLOO\nCO-FOUNDER\, OPEN QUANTUM DESIGN\n\nQuantum-Nano Centre\, 200 Univer
 sity Ave West\, Room QNC 0101 Waterloo\,\nON CA N2L 3G1\n\nQuantum computi
 ng promises to advance our computational abilities\nsignificantly in many 
 high-impact research areas. In this period of\nrapid development\, the exp
 erimental capabilities needed to build\nquantum computing devices and prot
 otypes are highly specialized and\noften difficult to access. In this publ
 ic talk\, we'll discuss how to\nbuild quantum computing devices one atom a
  time using the ion-trap\napproach. We'll show how we build quantum bits o
 ut of individually\nisolated atoms\, explore how we use them to simulate o
 ther complex\nsystems\, and showcase how we're building open-access hardwa
 re to\nadvance research in this exciting field.
DTSTAMP:20260423T155645Z
END:VEVENT
BEGIN:VEVENT
UID:69ea413d53853
DTSTART;TZID=America/Toronto:20220517T190000
SEQUENCE:0
TRANSP:TRANSPARENT
DTEND;TZID=America/Toronto:20220517T190000
URL:https://uwaterloo.ca/institute-for-quantum-computing/events/quantum-ste
 ampunk
LOCATION:Waterloo Public Library 35 Albert Street Waterloo ON N2L 5E2 Canad
 a
SUMMARY:Quantum Steampunk: The Physics of Yesterday's Tomorrow with Dr. Nic
 ole\nYunger Halpern
CLASS:PUBLIC
DESCRIPTION:IN PERSON &amp; VIRTUAL\n\nIn “Quantum Steampunk”\, the excitin
 g new book from Harvard\nphysicist Dr. Nicole Yunger Halpern\, the industr
 ial revolution meets\nthe quantum-technology revolution. While readers fol
 low the adventures\nof a rag-tag steampunk crew on trains\, dirigibles\, a
 nd automobiles\,\nthey explore questions such as\, “Can quantum physics 
 revolutionize\nengines?” and “What deeper secrets can quantum informat
 ion reveal\nabout the trajectory of time?” Join Dr.
DTSTAMP:20260423T155645Z
END:VEVENT
BEGIN:VEVENT
UID:69ea413d54117
DTSTART;TZID=America/Toronto:20210921T190000
SEQUENCE:0
TRANSP:TRANSPARENT
DTEND;TZID=America/Toronto:20210921T200000
URL:https://uwaterloo.ca/institute-for-quantum-computing/events/book-talk-c
 hris-ferrie-and-geraint-lewis-0
SUMMARY:Book Talk with Chris Ferrie and Geraint Lewis
CLASS:PUBLIC
DESCRIPTION:We're teaming up with the Kitchener Public Library\n[https://ww
 w.kpl.org/] for a free\, virtual talk on the book titled\n\"Where did the
  universe come from?\". The co-authors\, Chris and\nGeraint\, will talk a
 bout the fascinating exploration of the vastness\nof the universe. 
DTSTAMP:20260423T155645Z
END:VEVENT
BEGIN:VEVENT
UID:69ea413d548e5
DTSTART;TZID=America/Detroit:20210520T120000
SEQUENCE:0
TRANSP:TRANSPARENT
DTEND;TZID=America/Detroit:20210520T120000
URL:https://uwaterloo.ca/institute-for-quantum-computing/events/quantum-tod
 ay-new-algorithm-uses-hologram-control-trapped
SUMMARY:Quantum Today: New algorithm uses a hologram to control trapped ion
 s
CLASS:PUBLIC
DESCRIPTION:Quantum Today is an exciting new seminar series that pulls its 
 themes\nfrom recently published scientific articles. Join us as we sit dow
 n in\nconversation with researchers to talk about their work\, what’s th
 e\nimpact and where their research will lead to.
DTSTAMP:20260423T155645Z
END:VEVENT
BEGIN:VEVENT
UID:69ea413d54f8f
DTSTART;TZID=America/Toronto:20210512T190000
SEQUENCE:0
TRANSP:TRANSPARENT
DTEND;TZID=America/Toronto:20210512T190000
URL:https://uwaterloo.ca/institute-for-quantum-computing/events/creativity-
 meets-quantum
SUMMARY:Creativity meets quantum
CLASS:PUBLIC
DESCRIPTION:We're teaming up with Social Art [https://socialart.ca/]for a f
 un\nnight of virtual painting and quantum exploration.
DTSTAMP:20260423T155645Z
END:VEVENT
BEGIN:VEVENT
UID:69ea413d55574
DTSTART;TZID=America/Toronto:20210212T190000
SEQUENCE:0
TRANSP:TRANSPARENT
DTEND;TZID=America/Toronto:20210212T190000
URL:https://uwaterloo.ca/institute-for-quantum-computing/events/quantum-sho
 rts-virtual-screening
SUMMARY:Quantum Shorts Virtual Screening
CLASS:PUBLIC
DESCRIPTION:LIGHTS\, CAMERA\, SPOOKY ACTION\n\nJoin us February 12 at 7pm E
 ST for a virtual screening event featuring\nthe ten finalists of the Quant
 um Shorts festival.
DTSTAMP:20260423T155645Z
END:VEVENT
BEGIN:VEVENT
UID:69ea413d55bde
DTSTART;TZID=America/Toronto:20210119T190000
SEQUENCE:0
TRANSP:TRANSPARENT
DTEND;TZID=America/Toronto:20210119T190000
URL:https://uwaterloo.ca/institute-for-quantum-computing/events/fireside-ch
 at-shohini-ghose
SUMMARY:Fireside Chat with Shohini Ghose
CLASS:PUBLIC
DESCRIPTION:Join us\n[https://uwaterloo.ca/institute-for-quantum-computing/
 events/fireside-chat-shohini-ghose]\nfor casual conversations with quantum
  researchers.
DTSTAMP:20260423T155645Z
END:VEVENT
BEGIN:VEVENT
UID:69ea413d566e9
DTSTART;TZID=America/Toronto:20200929T190000
SEQUENCE:0
TRANSP:TRANSPARENT
DTEND;TZID=America/Toronto:20200929T190000
URL:https://uwaterloo.ca/institute-for-quantum-computing/events/fall-firesi
 de-chats
LOCATION:Canada
SUMMARY:Fall Fireside Chats
CLASS:PUBLIC
DESCRIPTION:Join us for casual conversations with researchers at the Instit
 ute for\nQuantum Computing (IQC).\n\nSHAYAN MAJIDY\, PHD CANDIDATE - TUESD
 AY\, SEPTEMBER 29\, 7:00 P.M.\n\n[Shayan Majidy]This month\, we welcome P
 hD student Shayan Majidy for a\nconversation about life as a graduate stu
 dent\, and what it's like to\nshare quantum and science with a young audie
 nce.
DTSTAMP:20260423T155645Z
END:VEVENT
END:VCALENDAR