BEGIN:VCALENDAR
VERSION:2.0
PRODID:-//Drupal iCal API//EN
X-WR-CALNAME:Events items teaser
X-WR-TIMEZONE:America/Toronto
BEGIN:VTIMEZONE
TZID:America/Toronto
X-LIC-LOCATION:America/Toronto
BEGIN:DAYLIGHT
TZNAME:EDT
TZOFFSETFROM:-0500
TZOFFSETTO:-0400
DTSTART:20250309T070000
END:DAYLIGHT
BEGIN:DAYLIGHT
TZNAME:EDT
TZOFFSETFROM:-0500
TZOFFSETTO:-0400
DTSTART:20240310T070000
END:DAYLIGHT
BEGIN:STANDARD
TZNAME:EST
TZOFFSETFROM:-0400
TZOFFSETTO:-0500
DTSTART:20241103T060000
END:STANDARD
BEGIN:STANDARD
TZNAME:EST
TZOFFSETFROM:-0400
TZOFFSETTO:-0500
DTSTART:20231105T060000
END:STANDARD
END:VTIMEZONE
BEGIN:VEVENT
UID:69e4c165d0257
DTSTART;TZID=America/Toronto:20250411T130000
SEQUENCE:0
TRANSP:TRANSPARENT
DTEND;TZID=America/Toronto:20250411T140000
URL:https://uwaterloo.ca/institute-for-quantum-computing/events/iqc-special
 -seminar-featuring-joanna-krynski
SUMMARY:IQC Special seminar featuring Joanna Krynski
CLASS:PUBLIC
DESCRIPTION:Quanta Image Sensor for Space Applications  \n\nLocation: QNC
  1201
DTSTAMP:20260419T114957Z
END:VEVENT
BEGIN:VEVENT
UID:69e4c165d1168
DTSTART;TZID=America/Toronto:20250411T130000
SEQUENCE:0
TRANSP:TRANSPARENT
DTEND;TZID=America/Toronto:20250411T140000
URL:https://uwaterloo.ca/institute-for-quantum-computing/events/iqc-special
 -seminar-featuring-joanna-krynski
SUMMARY:IQC Special seminar featuring Joanna Krynski
CLASS:PUBLIC
DESCRIPTION:Quanta Image Sensor for Space Applications  \n\nLocation: QNC
  1201
DTSTAMP:20260419T114957Z
END:VEVENT
BEGIN:VEVENT
UID:69e4c165d1a4d
DTSTART;TZID=America/Toronto:20250303T130000
SEQUENCE:0
TRANSP:TRANSPARENT
DTEND;TZID=America/Toronto:20250303T140000
URL:https://uwaterloo.ca/institute-for-quantum-computing/events/iqc-special
 -seminar-featuring-ian-thomas-george
SUMMARY:IQC Special seminar featuring Ian Thomas George
CLASS:PUBLIC
DESCRIPTION:Orthogonality Broadcasting and Quantum Position Verification\n\
 nLocation: QNC 1501
DTSTAMP:20260419T114957Z
END:VEVENT
BEGIN:VEVENT
UID:69e4c165d227e
DTSTART;TZID=America/Toronto:20250303T130000
SEQUENCE:0
TRANSP:TRANSPARENT
DTEND;TZID=America/Toronto:20250303T140000
URL:https://uwaterloo.ca/institute-for-quantum-computing/events/iqc-special
 -seminar-featuring-ian-thomas-george
SUMMARY:IQC Special seminar featuring Ian Thomas George
CLASS:PUBLIC
DESCRIPTION:Orthogonality Broadcasting and Quantum Position Verification\n\
 nLocation: QNC 1501
DTSTAMP:20260419T114957Z
END:VEVENT
BEGIN:VEVENT
UID:69e4c165d2a43
DTSTART;TZID=America/Toronto:20250129T120000
SEQUENCE:0
TRANSP:TRANSPARENT
DTEND;TZID=America/Toronto:20250129T130000
URL:https://uwaterloo.ca/institute-for-quantum-computing/events/funding-res
 earch-partnerships-iqc
SUMMARY:Funding research partnerships at IQC
CLASS:PUBLIC
DESCRIPTION:Join Amanda Green\, Senior Advisor at Mitacs\, to learn how to 
 leverage\nMitacs funding for collaborative research at IQC. This session w
 ill\ncover key Mitacs programs that support partnerships with companies\,\
 nnonprofits\, municipalities\, hospitals\, and startups.
DTSTAMP:20260419T114957Z
END:VEVENT
BEGIN:VEVENT
UID:69e4c165d3069
DTSTART;TZID=America/Toronto:20241107T140000
SEQUENCE:0
TRANSP:TRANSPARENT
DTEND;TZID=America/Toronto:20241107T150000
URL:https://uwaterloo.ca/institute-for-quantum-computing/events/iqc-special
 -seminar-featuring-dylan-lewis
SUMMARY:IQC Special seminar featuring Dylan Lewis
CLASS:PUBLIC
DESCRIPTION:Designing quantum gates from time-independent Hamiltonians usin
 g\nRiemannian geometry\n\nLocation: QNC 1201
DTSTAMP:20260419T114957Z
END:VEVENT
BEGIN:VEVENT
UID:69e4c165d38e7
DTSTART;TZID=America/Toronto:20241107T140000
SEQUENCE:0
TRANSP:TRANSPARENT
DTEND;TZID=America/Toronto:20241107T150000
URL:https://uwaterloo.ca/institute-for-quantum-computing/events/iqc-special
 -seminar-featuring-dylan-lewis
SUMMARY:IQC Special seminar featuring Dylan Lewis
CLASS:PUBLIC
DESCRIPTION:Designing quantum gates from time-independent Hamiltonians usin
 g\nRiemannian geometry\n\nLocation: QNC 1201
DTSTAMP:20260419T114957Z
END:VEVENT
BEGIN:VEVENT
UID:69e4c165d3e48
DTSTART;TZID=America/Toronto:20241108T140000
SEQUENCE:0
TRANSP:TRANSPARENT
DTEND;TZID=America/Toronto:20241108T150000
URL:https://uwaterloo.ca/institute-for-quantum-computing/events/iqc-math-an
 d-cs-seminar-featuring-tudor-giurgica-tiron
SUMMARY:IQC Math and CS seminar featuring Tudor Giurgică-Tiron
CLASS:PUBLIC
DESCRIPTION:The state hidden subgroup problem and an efficient algorithm fo
 r\nlocating unentanglement\n\nLocation: QNC 4104\, Zoom
DTSTAMP:20260419T114957Z
END:VEVENT
BEGIN:VEVENT
UID:69e4c165d4389
DTSTART;TZID=America/Toronto:20241108T140000
SEQUENCE:0
TRANSP:TRANSPARENT
DTEND;TZID=America/Toronto:20241108T150000
URL:https://uwaterloo.ca/institute-for-quantum-computing/events/iqc-math-an
 d-cs-seminar-featuring-tudor-giurgica-tiron
SUMMARY:IQC Math and CS seminar featuring Tudor Giurgică-Tiron
CLASS:PUBLIC
DESCRIPTION:The state hidden subgroup problem and an efficient algorithm fo
 r\nlocating unentanglement\n\nLocation: QNC 4104\, Zoom
DTSTAMP:20260419T114957Z
END:VEVENT
BEGIN:VEVENT
UID:69e4c165d48cf
DTSTART;TZID=America/Toronto:20241107T113000
SEQUENCE:0
TRANSP:TRANSPARENT
DTEND;TZID=America/Toronto:20241107T123000
URL:https://uwaterloo.ca/institute-for-quantum-computing/events/waterloo-rq
 i-seminar-featuring-jose-polo-gomez
SUMMARY:Waterloo RQI seminar featuring José Polo-Gómez
CLASS:PUBLIC
DESCRIPTION:No black holes from light\n\nLocation: QNC 1201\, Zoom
DTSTAMP:20260419T114957Z
END:VEVENT
BEGIN:VEVENT
UID:69e4c165d4e20
DTSTART;TZID=America/Toronto:20241105T103000
SEQUENCE:0
TRANSP:TRANSPARENT
DTEND;TZID=America/Toronto:20241105T113000
URL:https://uwaterloo.ca/institute-for-quantum-computing/events/iqc-special
 -seminar-featuring-vincent-koeman
SUMMARY:IQC Special seminar featuring Vincent Koeman
CLASS:PUBLIC
DESCRIPTION:Quantum Parties in the Netherlands: The effect of a quantum pop
 -up\nexhibit on visitors\n\nLocation: QNC 1201
DTSTAMP:20260419T114957Z
END:VEVENT
BEGIN:VEVENT
UID:69e4c165d537d
DTSTART;TZID=America/Toronto:20241105T103000
SEQUENCE:0
TRANSP:TRANSPARENT
DTEND;TZID=America/Toronto:20241105T113000
URL:https://uwaterloo.ca/institute-for-quantum-computing/events/iqc-special
 -seminar-featuring-vincent-koeman
SUMMARY:IQC Special seminar featuring Vincent Koeman
CLASS:PUBLIC
DESCRIPTION:Quantum Parties in the Netherlands: The effect of a quantum pop
 -up\nexhibit on visitors\n\nLocation: QNC 1201
DTSTAMP:20260419T114957Z
END:VEVENT
BEGIN:VEVENT
UID:69e4c165d59a7
DTSTART;TZID=America/Toronto:20241031T133000
SEQUENCE:0
TRANSP:TRANSPARENT
DTEND;TZID=America/Toronto:20241031T143000
URL:https://uwaterloo.ca/institute-for-quantum-computing/events/iqc-math-an
 d-cs-seminar-featuring-arsalan-motamedi
SUMMARY:IQC Math and CS seminar featuring Arsalan Motamedi
CLASS:PUBLIC
DESCRIPTION:Bosonic Quantum Computational Complexity\n\nLocation: QNC 1201 
 and online on Zoom
DTSTAMP:20260419T114957Z
END:VEVENT
BEGIN:VEVENT
UID:69e4c165d5f5b
DTSTART;TZID=America/Toronto:20241031T133000
SEQUENCE:0
TRANSP:TRANSPARENT
DTEND;TZID=America/Toronto:20241031T143000
URL:https://uwaterloo.ca/institute-for-quantum-computing/events/iqc-math-an
 d-cs-seminar-featuring-arsalan-motamedi
SUMMARY:IQC Math and CS seminar featuring Arsalan Motamedi
CLASS:PUBLIC
DESCRIPTION:Bosonic Quantum Computational Complexity\n\nLocation: QNC 1201 
 and online on Zoom
DTSTAMP:20260419T114957Z
END:VEVENT
BEGIN:VEVENT
UID:69e4c165d64d9
DTSTART;TZID=America/Toronto:20241104T143000
SEQUENCE:0
TRANSP:TRANSPARENT
DTEND;TZID=America/Toronto:20241104T153000
URL:https://uwaterloo.ca/institute-for-quantum-computing/events/iqc-colloqu
 ium-featuring-paul-barclay
SUMMARY:IQC Colloquium featuring Paul Barclay
CLASS:PUBLIC
DESCRIPTION:Spin\, photons and phonons: diamond nanophotonics\n\nLocation: 
 QNC 0101
DTSTAMP:20260419T114957Z
END:VEVENT
BEGIN:VEVENT
UID:69e4c165d6a2c
DTSTART;TZID=America/Toronto:20241104T143000
SEQUENCE:0
TRANSP:TRANSPARENT
DTEND;TZID=America/Toronto:20241104T153000
URL:https://uwaterloo.ca/institute-for-quantum-computing/events/iqc-colloqu
 ium-featuring-paul-barclay
SUMMARY:IQC Colloquium featuring Paul Barclay
CLASS:PUBLIC
DESCRIPTION:Spin\, photons and phonons: diamond nanophotonics\n\nLocation: 
 QNC 0101
DTSTAMP:20260419T114957Z
END:VEVENT
BEGIN:VEVENT
UID:69e4c165d6fa3
DTSTART;TZID=America/Toronto:20241111T083000
SEQUENCE:0
TRANSP:TRANSPARENT
DTEND;TZID=America/Toronto:20241111T163000
URL:https://uwaterloo.ca/institute-for-quantum-computing/events/quantum-inn
 ovators-2024
SUMMARY:Quantum Innovators 2024
CLASS:PUBLIC
DESCRIPTION:Quantum Innovators is a five-day workshop offered by the Instit
 ute for\nQuantum Computing (IQC) since 2012 bringing the most promising\np
 ostdoctoral fellows in quantum information science and technology\ntogethe
 r.
DTSTAMP:20260419T114957Z
END:VEVENT
BEGIN:VEVENT
UID:69e4c165d774e
DTSTART;TZID=America/Toronto:20241112T083000
SEQUENCE:0
TRANSP:TRANSPARENT
DTEND;TZID=America/Toronto:20241112T163000
URL:https://uwaterloo.ca/institute-for-quantum-computing/events/quantum-inn
 ovators-2024
SUMMARY:Quantum Innovators 2024
CLASS:PUBLIC
DESCRIPTION:Quantum Innovators is a five-day workshop offered by the Instit
 ute for\nQuantum Computing (IQC) since 2012 bringing the most promising\np
 ostdoctoral fellows in quantum information science and technology\ntogethe
 r.
DTSTAMP:20260419T114957Z
END:VEVENT
BEGIN:VEVENT
UID:69e4c165d7c9d
DTSTART;TZID=America/Toronto:20241113T083000
SEQUENCE:0
TRANSP:TRANSPARENT
DTEND;TZID=America/Toronto:20241113T163000
URL:https://uwaterloo.ca/institute-for-quantum-computing/events/quantum-inn
 ovators-2024
SUMMARY:Quantum Innovators 2024
CLASS:PUBLIC
DESCRIPTION:Quantum Innovators is a five-day workshop offered by the Instit
 ute for\nQuantum Computing (IQC) since 2012 bringing the most promising\np
 ostdoctoral fellows in quantum information science and technology\ntogethe
 r.
DTSTAMP:20260419T114957Z
END:VEVENT
BEGIN:VEVENT
UID:69e4c165d81b1
DTSTART;TZID=America/Toronto:20241114T083000
SEQUENCE:0
TRANSP:TRANSPARENT
DTEND;TZID=America/Toronto:20241114T163000
URL:https://uwaterloo.ca/institute-for-quantum-computing/events/quantum-inn
 ovators-2024
SUMMARY:Quantum Innovators 2024
CLASS:PUBLIC
DESCRIPTION:Quantum Innovators is a five-day workshop offered by the Instit
 ute for\nQuantum Computing (IQC) since 2012 bringing the most promising\np
 ostdoctoral fellows in quantum information science and technology\ntogethe
 r.
DTSTAMP:20260419T114957Z
END:VEVENT
BEGIN:VEVENT
UID:69e4c165d869a
DTSTART;TZID=America/Toronto:20241115T083000
SEQUENCE:0
TRANSP:TRANSPARENT
DTEND;TZID=America/Toronto:20241115T163000
URL:https://uwaterloo.ca/institute-for-quantum-computing/events/quantum-inn
 ovators-2024
SUMMARY:Quantum Innovators 2024
CLASS:PUBLIC
DESCRIPTION:Quantum Innovators is a five-day workshop offered by the Instit
 ute for\nQuantum Computing (IQC) since 2012 bringing the most promising\np
 ostdoctoral fellows in quantum information science and technology\ntogethe
 r.
DTSTAMP:20260419T114957Z
END:VEVENT
END:VCALENDAR