BEGIN:VCALENDAR
VERSION:2.0
PRODID:-//Drupal iCal API//EN
X-WR-CALNAME:Events items teaser
X-WR-TIMEZONE:America/Toronto
BEGIN:VTIMEZONE
TZID:America/Toronto
X-LIC-LOCATION:America/Toronto
BEGIN:DAYLIGHT
TZNAME:EDT
TZOFFSETFROM:-0500
TZOFFSETTO:-0400
DTSTART:20220313T070000
END:DAYLIGHT
BEGIN:DAYLIGHT
TZNAME:EDT
TZOFFSETFROM:-0500
TZOFFSETTO:-0400
DTSTART:20260308T070000
END:DAYLIGHT
BEGIN:DAYLIGHT
TZNAME:EDT
TZOFFSETFROM:-0500
TZOFFSETTO:-0400
DTSTART:20250309T070000
END:DAYLIGHT
BEGIN:STANDARD
TZNAME:EST
TZOFFSETFROM:-0400
TZOFFSETTO:-0500
DTSTART:20221106T060000
END:STANDARD
BEGIN:STANDARD
TZNAME:EST
TZOFFSETFROM:-0400
TZOFFSETTO:-0500
DTSTART:20251102T060000
END:STANDARD
BEGIN:STANDARD
TZNAME:EST
TZOFFSETFROM:-0400
TZOFFSETTO:-0500
DTSTART:20241103T060000
END:STANDARD
END:VTIMEZONE
BEGIN:VEVENT
UID:69e526e6628c3
DTSTART;VALUE=DATE:20221120
SEQUENCE:0
TRANSP:TRANSPARENT
DTEND;VALUE=DATE:20221123
URL:https://uwaterloo.ca/institute-for-quantum-computing/events/quantum-edu
 cators-2026
SUMMARY:Quantum for Educators 2026
CLASS:PUBLIC
DESCRIPTION:Would you like to deepen your understanding of quantum mechanic
 s and\nhow to convey its wonder and societal importance to your students?
  
X-MICROSOFT-CDO-ALLDAYEVENT:TRUE
DTSTAMP:20260419T190302Z
END:VEVENT
BEGIN:VEVENT
UID:69e526e663c1a
DTSTART;TZID=America/Toronto:20260320T100000
SEQUENCE:0
TRANSP:TRANSPARENT
DTEND;TZID=America/Toronto:20260320T163000
URL:https://uwaterloo.ca/institute-for-quantum-computing/events/youth-quant
 um-symposium
SUMMARY:Youth Quantum Symposium
CLASS:PUBLIC
DESCRIPTION:A full day of quantum for high-school students to hear about\n
 today’s quantum research\, talk with quantum researchers\, and learn\nab
 out opportunities to study quantum science.\n\nLocation: QNC 0101
DTSTAMP:20260419T190302Z
END:VEVENT
BEGIN:VEVENT
UID:69e526e66459f
DTSTART;VALUE=DATE:20260804
SEQUENCE:0
TRANSP:TRANSPARENT
DTEND;VALUE=DATE:20260814
URL:https://uwaterloo.ca/institute-for-quantum-computing/events/quantum-sch
 ool-young-students-2026
SUMMARY:Quantum School for Young Students 2026
CLASS:PUBLIC
DESCRIPTION:Join hundreds of high-school students to explore the quantum fu
 ture!
X-MICROSOFT-CDO-ALLDAYEVENT:TRUE
DTSTAMP:20260419T190302Z
END:VEVENT
BEGIN:VEVENT
UID:69e526e664b93
DTSTART;VALUE=DATE:20260525
SEQUENCE:0
TRANSP:TRANSPARENT
DTEND;VALUE=DATE:20260606
URL:https://uwaterloo.ca/institute-for-quantum-computing/events/useqip-2026
SUMMARY:Undergraduate School on Experimental Quantum Information Processing
 \n2026
CLASS:PUBLIC
DESCRIPTION:Explore quantum information science hands-on at a world-class\n
 institute.
X-MICROSOFT-CDO-ALLDAYEVENT:TRUE
DTSTAMP:20260419T190302Z
END:VEVENT
BEGIN:VEVENT
UID:69e526e665502
DTSTART;TZID=America/Toronto:20251007T190000
SEQUENCE:0
TRANSP:TRANSPARENT
DTEND;TZID=America/Toronto:20251007T203000
URL:https://uwaterloo.ca/institute-for-quantum-computing/events/impact-quan
 tum-information-science-how-will-it-change-how-we
SUMMARY:Impact of quantum information on science: How will it change how we
 \nwork?
CLASS:PUBLIC
DESCRIPTION:This public panel brings together leading experts to explore it
 s\nimpact across chemistry\, particle physics and beyond.
DTSTAMP:20260419T190302Z
END:VEVENT
BEGIN:VEVENT
UID:69e526e665e94
DTSTART;TZID=America/Toronto:20251020T190000
SEQUENCE:0
TRANSP:TRANSPARENT
DTEND;TZID=America/Toronto:20251020T210000
URL:https://uwaterloo.ca/institute-for-quantum-computing/events/equiquanto
SUMMARY:equiQuanto
CLASS:PUBLIC
DESCRIPTION:Join IQC and TheMuseum to explore the history of quantum scienc
 e\nthrough live drawings with Dr. Charles Antoine\, CNRS Quantum\nAmbassad
 or for the Year of Quantum.\n\nLocation: THEMUSEUM\, Kitchener
DTSTAMP:20260419T190302Z
END:VEVENT
BEGIN:VEVENT
UID:69e526e6667ae
DTSTART;TZID=America/Toronto:20251008T190000
SEQUENCE:0
TRANSP:TRANSPARENT
DTEND;TZID=America/Toronto:20251008T210000
URL:https://uwaterloo.ca/institute-for-quantum-computing/events/proofs-and-
 profs-quantum-through-pop-culture
SUMMARY:Proofs and Profs – Quantum through pop culture
CLASS:PUBLIC
DESCRIPTION:Explore how quantum science shapes real-world tech and its port
 rayal\nin movies and media with IQC scientific outreach manager\, John\nD
 onohue.
DTSTAMP:20260419T190302Z
END:VEVENT
BEGIN:VEVENT
UID:69e526e6670dc
DTSTART;TZID=America/Toronto:20250503T130000
SEQUENCE:0
TRANSP:TRANSPARENT
DTEND;TZID=America/Toronto:20250503T160000
URL:https://uwaterloo.ca/institute-for-quantum-computing/events/quantum-doo
 rs-open
SUMMARY:Quantum Doors Open
CLASS:PUBLIC
DESCRIPTION:Join us for a day of exploration and inspiration! Meet the scie
 ntists\nand engineers shaping the future\, participate in interactive\nact
 ivities and demonstrations and uncover the mysteries of quantum\ncomputing
 \, communication\, and sensing. \n\nLocation: Catalyst Commons\, Kitchene
 r
DTSTAMP:20260419T190302Z
END:VEVENT
BEGIN:VEVENT
UID:69e526e667a69
DTSTART;TZID=America/Toronto:20250414T183000
SEQUENCE:0
TRANSP:TRANSPARENT
DTEND;TZID=America/Toronto:20250414T210000
URL:https://uwaterloo.ca/institute-for-quantum-computing/events/world-quant
 um-day-quantum-shorts-encore
LOCATION:Apollo Cinema 141 Ontario St N Kitchener ON N2H 4Y5 Canada
SUMMARY:World Quantum Day – Quantum Shorts: Encore
CLASS:PUBLIC
DESCRIPTION:Celebrate World Quantum Day with an IQC film experience!  \n\
 nLocation: Apollo Cinema\, Kitchener
DTSTAMP:20260419T190302Z
END:VEVENT
BEGIN:VEVENT
UID:69e526e668436
DTSTART;TZID=America/Toronto:20250327T183000
SEQUENCE:0
TRANSP:TRANSPARENT
DTEND;TZID=America/Toronto:20250327T200000
URL:https://uwaterloo.ca/institute-for-quantum-computing/events/science-in-
 the-city-quantum
SUMMARY:Faculty of Science presents: Science in the City - Quantum
CLASS:PUBLIC
DESCRIPTION:Join us to celebrate the Year of Quantum by engaging with leadi
 ng\nexperts who share what’s next in quantum science!  \n\nLocation: 
 Schooner Street Brewery\, Waterloo
DTSTAMP:20260419T190302Z
END:VEVENT
END:VCALENDAR