BEGIN:VCALENDAR
VERSION:2.0
PRODID:-//Drupal iCal API//EN
X-WR-CALNAME:Events items teaser
X-WR-TIMEZONE:America/Toronto
BEGIN:VTIMEZONE
TZID:America/Toronto
X-LIC-LOCATION:America/Toronto
BEGIN:DAYLIGHT
TZNAME:EDT
TZOFFSETFROM:-0500
TZOFFSETTO:-0400
DTSTART:20240310T070000
END:DAYLIGHT
BEGIN:STANDARD
TZNAME:EST
TZOFFSETFROM:-0400
TZOFFSETTO:-0500
DTSTART:20231105T060000
END:STANDARD
END:VTIMEZONE
BEGIN:VEVENT
UID:69ed4400ccce9
DTSTART;TZID=America/Toronto:20240411T100000
SEQUENCE:0
TRANSP:TRANSPARENT
DTEND;TZID=America/Toronto:20240411T110000
URL:https://uwaterloo.ca/institute-nanotechnology/events/win-distinguished-
 lecture-ali-beskok
LOCATION:QNC - Quantum Nano Centre 200 University Avenue West 1501 Waterloo
  ON N2L 3G1 Canada
SUMMARY:WIN Distinguished Lecture: Ali Beskok
CLASS:PUBLIC
DESCRIPTION:The Waterloo Institute for Nanotechnology (WIN) is pleased to p
 resent\na Distinguished Lecture by ALI BESKOK\, Associate Dean for Resear
 ch\nInnovation and Industry Partnerships\, George R. Brown Chair in\nMech
 anical Engineering at the Southern Methodist University.\n\nIn-person in
  QNC 1501!\n\n_Registration is required. Please register early as there i
 s limited\nin-person seating._
DTSTAMP:20260425T224520Z
END:VEVENT
END:VCALENDAR