BEGIN:VCALENDAR
VERSION:2.0
PRODID:-//Drupal iCal API//EN
X-WR-CALNAME:Events items teaser
X-WR-TIMEZONE:America/Toronto
BEGIN:VTIMEZONE
TZID:America/Toronto
X-LIC-LOCATION:America/Toronto
BEGIN:DAYLIGHT
TZNAME:EDT
TZOFFSETFROM:-0500
TZOFFSETTO:-0400
DTSTART:20240310T070000
END:DAYLIGHT
BEGIN:STANDARD
TZNAME:EST
TZOFFSETFROM:-0400
TZOFFSETTO:-0500
DTSTART:20231105T060000
END:STANDARD
END:VTIMEZONE
BEGIN:VEVENT
UID:69eb95e80a00d
DTSTART;TZID=America/Toronto:20240326T110000
SEQUENCE:0
TRANSP:TRANSPARENT
DTEND;TZID=America/Toronto:20240326T120000
URL:https://uwaterloo.ca/institute-nanotechnology/events/win-distinguished-
 lecture-jan-van-hest
LOCATION:QNC - Quantum Nano Centre 200 University Avenue West 1501 Waterloo
  ON N2L 3G1 Canada
SUMMARY:WIN Distinguished Lecture: Jan van Hest
CLASS:PUBLIC
DESCRIPTION:The Waterloo Institute for Nanotechnology (WIN) is pleased to p
 resent\na Distinguished Lecture by JAN VAN HEST\, Professor of Bio-organi
 c\nChemistry at Eindhoven University of Technology. In-person in QNC\n1
 501!\n\n_Registration is required. Please register early as there is limit
 ed\nin-person seating. Coffee &amp; Timbits will be provided! _
DTSTAMP:20260424T161016Z
END:VEVENT
END:VCALENDAR